BEGIN:VCALENDAR
VERSION:2.0
PRODID:icalendar-ruby
CALSCALE:GREGORIAN
BEGIN:VEVENT
DTSTAMP:20260423T160438Z
UID:U8Rzbw
DTSTART;VALUE=DATE:20190918
DTEND;VALUE=DATE:20190919
CLASS:PUBLIC
CREATED:20170221T092753
DESCRIPTION: Lorna Byrne Talks 2017 in association with Eason\,  Dublin (Ap
 r 9th\, 3pm)\, Sligo (Apr 13th\, 7:30pm)\, Wexford (Apr 20th\, 7.30pm)\, C
 ork (Apr 22nd\, 3pm) &amp\; Limerick (Apr 23rd\, 3pm) \n\n Tickets are  
 €37.50 (inc booking fee). Ticket price includes a signed copy of Angels 
 at my Fingertips. \n
LAST-MODIFIED:20250102T155503
LOCATION:
ORGANIZER:mailto:marketing@easons.com
SUMMARY:Lorna Byrne Talks 2017 in association with Eason
URL;VALUE=URI:https://ti.to/eason/lorna-byrne-talks-2017-in-association-wit
 h-eason
URL;VALUE=URI:https://ti.to/eason/lorna-byrne-talks-2017-in-association-wit
 h-eason
END:VEVENT
END:VCALENDAR
