BEGIN:VCALENDAR
VERSION:2.0
PRODID:icalendar-ruby
CALSCALE:GREGORIAN
BEGIN:VEVENT
DTSTAMP:20260419T183914Z
UID:yG0l4Q
DTSTART;VALUE=DATE:20250925
DTEND;VALUE=DATE:20250926
CLASS:PUBLIC
CREATED:20250814T101719
DESCRIPTION: Join us for an in conversation event with Miriam Hussey to cel
 ebrate the launch of her new book Light Up on Thursday September 25th at 7
 pm in the Royal Marine Hotel\, Dun Laoghaire. Hear from Miriam\, a pharmac
 ist to leader of the Soul Space movement\, about her transformational jour
 ney advocating the power of integrative heath and lifestyle medicine. \n\n
  Tickets are €28 and include a copy of Light Up\, which you will receive
  at the venue on the night. Miriam will also be signing copies post event.
  \n\n There is also an option of ticket only\, which is €5.50 and does n
 ot include the book. \n\n About the book: Light Up explores the deep link 
 between mind\, body\, and soul\, focusing on the soul as key to well-being
 . Offering practical guidance\, it helps readers regulate the body\, calm 
 the mind\, and reawaken spirituality—restoring purpose\, harmony\, and v
 itality in today’s demanding\, always-on world. \n
LAST-MODIFIED:20250923T132628
LOCATION:Royal Marine Hotel\, Dun Laoghaire
ORGANIZER:mailto:marketing@easons.com
SUMMARY:Eason Presents Miriam Hussey
URL;VALUE=URI:https://ti.to/eason/eason-presents-miriam-hussey
URL;VALUE=URI:https://ti.to/eason/eason-presents-miriam-hussey
END:VEVENT
END:VCALENDAR
