BEGIN:VCALENDAR
VERSION:2.0
PRODID:icalendar-ruby
CALSCALE:GREGORIAN
BEGIN:VEVENT
DTSTAMP:20260419T184036Z
UID:eFpqFA
DTSTART;VALUE=DATE:20220924
DTEND;VALUE=DATE:20220925
CLASS:PUBLIC
CREATED:20220815T082053
DESCRIPTION: Join Lucy Kennedy as she visits Eason in Liffey Valley Shoppin
 g Centre Saturday 24th of September at 11:00am where she will sign copies 
 of her new book 'Friendship Fairies Go To Sea'. Tickets are free and copie
 s\nof 'Friendship Fairies Go To Sea' will be available for purchase\, whic
 h\nyou can get signed on the day.  \n
LAST-MODIFIED:20240326T112740
LOCATION:Eason Liffey Valley
ORGANIZER:mailto:marketing@easons.com
SUMMARY:Eason Presents: Lucy Kennedy Signing
URL;VALUE=URI:https://ti.to/eason/eason-presents-lucy-kennedy-signing
URL;VALUE=URI:https://ti.to/eason/eason-presents-lucy-kennedy-signing
END:VEVENT
END:VCALENDAR
