BEGIN:VCALENDAR
VERSION:2.0
PRODID:icalendar-ruby
CALSCALE:GREGORIAN
BEGIN:VEVENT
DTSTAMP:20260421T163803Z
UID:LgmdpQ
DTSTART;VALUE=DATE:20260327
DTEND;VALUE=DATE:20260329
CLASS:PUBLIC
CREATED:20260212T093319
DESCRIPTION: Eason are delighted to present Derek Landy\, signing copies of
  Skulduggery Pleasant: A Soul Full of Shadows. \n\n Derek will be in Eason
 \, Dundrum and Eason\, O'Connell St. Dublin in March to celebrate the publ
 ication of his new title. \n\n Eason\, Dundrum Town Centre\n📅 Date: Fri
 day 27th March 2026 \nTime: 3pm \n📍 Venue: Eason\, Dundrum\n🎟Tickets
 : €5 redeemable on the day \n\n Eason O'Connell St. Dublin\n📅 Date: S
 aturday 28th March 2026\nTime: 12pm \n📍 Venue: Eason\, O'Connell St. Du
 blin\n🎟Tickets: €5 redeemable on the day \n\n Tickets €5\,and are f
 ully redeemable against books purchased on the day at the venue specified 
 only.  \n\n Derek will also sign copies of his other books\, so ticket hol
 ders are welcome to bring collections from home\, and additional copies of
  Derek’s books will also be able available to purchase on the day. \n\n 
 About the new book:\nSkulduggery Pleasant has many enemies - many\, many e
 nemies - and people try to kill him multiple times a day. But when someone
  puts a price on his head\, he finds himself going up against a foe that n
 ot even he can beat. Not alone\, anyway. And where is his partner right wh
 en he needs her the most? Valkyrie Cain is in prison\, fighting to stay al
 ive in a place where everyone wants to kill her. With an island of sorcere
 rs ready to cut themselves off from the rest of the world\, a terrorist gr
 oup enjoying unprecedented public support\, and a showdown looming between
  Winter Grieving and the Child of the Ancients\, Skulduggery and Valkyrie 
 find that their options\, like their chances\, are quickly running out. IS
  THIS THE END? \n
LAST-MODIFIED:20260327T083402
LOCATION:Eason
ORGANIZER:mailto:marketing@easons.com
SUMMARY:Eason Presents Derek Landy Book Signings (Dundrum and O'Connell St.
  Dublin)
URL;VALUE=URI:https://ti.to/eason/eason-presents-derek-landy-book-signings-
 dundrum-and-oconnell-st-dublin
URL;VALUE=URI:https://ti.to/eason/eason-presents-derek-landy-book-signings-
 dundrum-and-oconnell-st-dublin
END:VEVENT
END:VCALENDAR
