BEGIN:VCALENDAR
VERSION:2.0
PRODID:icalendar-ruby
CALSCALE:GREGORIAN
BEGIN:VEVENT
DTSTAMP:20260420T181301Z
UID:JMSE6A
DTSTART:20260331T191500
DTEND:20260331T203000
CLASS:PUBLIC
CREATED:20260115T132003
DESCRIPTION: Between Friends: An Evening with Sheila O’Flanagan\, in conv
 ersation with Mary Kennedy \n\n Join us for an unforgettable evening celeb
 rating the launch of Sheila O’Flanagan’s latest bestseller\,Secrets Be
 tween Friends.\nSheila will be in-conversation with the beloved broadcaste
 r\, and author Mary Kennedy\, sharing insights\, stories\, and secrets beh
 ind the book. \n\n Enjoy a glass of prosecco\, mingle with fellow readers\
 , and have your copy signed by Sheila herself. \n\n 📅 Date &amp\; Time:
  Tuesday 31st March at 07:15pm\n📍 Venue: Easons O’Connell St\, Dublin
 \n🎟 Tickets: Free of charge\, please register below. \n\n **Please note
 :**This event will be a mix of sitting and standing and will operate on a 
 first come first served basis. \n
LAST-MODIFIED:20260331T153641
LOCATION:Eason\, O'Connell St. Dublin
ORGANIZER:mailto:marketing@easons.com
SUMMARY:Eason Presents an Evening with Sheila O'Flanagan
URL;VALUE=URI:https://ti.to/eason/eason-presents-an-evening-with-sheila-ofl
 anagan
URL;VALUE=URI:https://ti.to/eason/eason-presents-an-evening-with-sheila-ofl
 anagan
END:VEVENT
END:VCALENDAR
