BEGIN:VCALENDAR
VERSION:2.0
PRODID:icalendar-ruby
CALSCALE:GREGORIAN
BEGIN:VEVENT
DTSTAMP:20260420T072545Z
UID:mxjvKw
DTSTART:20260227T190000
DTEND:20260227T200000
CLASS:PUBLIC
CREATED:20260115T160722
DESCRIPTION: Join us for an intimate evening of conversation and music to c
 elebrate the launch of Niall Breslin’s new book\, The Place That Has Nev
 er Been Wounded. \n\n 📅 Date: Friday 27thFebruary 2026\nTime: Doors 6:3
 0pm for 7pm start\n📍 Venue: 2210 Patisserie\, Mullingar\n🎟Tickets: 
 €5 redeemable against the book on the night \n
LAST-MODIFIED:20260116T114738
LOCATION:2210 Patisserie\, Mullingar
ORGANIZER:mailto:marketing@easons.com
SUMMARY:An Evening with Niall Breslin
URL;VALUE=URI:https://ti.to/eason/an-evening-with-niall-breslin
URL;VALUE=URI:https://ti.to/eason/an-evening-with-niall-breslin
END:VEVENT
END:VCALENDAR
