BEGIN:VCALENDAR
VERSION:2.0
PRODID:icalendar-ruby
CALSCALE:GREGORIAN
BEGIN:VEVENT
DTSTAMP:20260419T145633Z
UID:M4BJHg
DTSTART;VALUE=DATE:20170605
DTEND;VALUE=DATE:20170608
CLASS:PUBLIC
CREATED:20170206T104203
LAST-MODIFIED:20170605T162553
LOCATION:San Francisco
ORGANIZER:mailto:earl-team@mango-solutions.com
SUMMARY:EARL San Francisco 2017
URL;VALUE=URI:https://ti.to/earl-conference/earl-sf-2017
URL;VALUE=URI:https://ti.to/earl-conference/earl-sf-2017
END:VEVENT
END:VCALENDAR
