BEGIN:VCALENDAR
VERSION:2.0
PRODID:icalendar-ruby
CALSCALE:GREGORIAN
BEGIN:VEVENT
DTSTAMP:20260421T124035Z
UID:2VAdxg
DTSTART;VALUE=DATE:20170412
DTEND;VALUE=DATE:20170413
CLASS:PUBLIC
CREATED:20170322T094356
DESCRIPTION: Talks start 7:00pm \n\n \n\n Guest Speakers \n\n Cristiano Ras
 telli - “Let There Be Peace On CSS” \n\n Liam Hutchinson - “Better E
 xperience Design Through Facilitation” \n\n More details on the DXN webs
 ite \n\n \n\n About DXN \n\n DXN aims to enrich and inspire Nottingham’s
  digital design community. Each month\, it hosts talks from renowned speak
 ers and local voices\, on topics from content to UX. You'll also get to me
 et fellow designers\, make announcements\, and enjoy some free drinks. \n
LAST-MODIFIED:20231212T102856
LOCATION:Nottingham\, UK
ORGANIZER:mailto:info@dxnevent.com
SUMMARY:DXN: April 2017
URL;VALUE=URI:https://ti.to/dxnevent/april-2017
URL;VALUE=URI:https://ti.to/dxnevent/april-2017
END:VEVENT
END:VCALENDAR
