BEGIN:VCALENDAR
VERSION:2.0
PRODID:icalendar-ruby
CALSCALE:GREGORIAN
BEGIN:VEVENT
DTSTAMP:20260421T201654Z
UID:3w7q5A
DTSTART;VALUE=DATE:20220518
DTEND;VALUE=DATE:20220519
CLASS:PUBLIC
CREATED:20220215T151817
DESCRIPTION: Thanks for joining us on this adventure into the future of med
 ia delivery. \n
LAST-MODIFIED:20251203T103216
LOCATION:Brussels\, Belgium
ORGANIZER:mailto:dvb@dvb.org
SUMMARY:DVB World 2022
URL;VALUE=URI:https://ti.to/dvbworld/dvb-world-2022
URL;VALUE=URI:https://ti.to/dvbworld/dvb-world-2022
END:VEVENT
END:VCALENDAR
