BEGIN:VCALENDAR
VERSION:2.0
PRODID:icalendar-ruby
CALSCALE:GREGORIAN
BEGIN:VEVENT
DTSTAMP:20260421T104822Z
UID:cZpR6g
DTSTART;VALUE=DATE:20180811
DTEND;VALUE=DATE:20180812
CLASS:PUBLIC
CREATED:20180606T124829
DESCRIPTION: \n You have a WIP Pi project\, or one you want to work on?  \n
  You want to learn what a Pi about? \n Or you know what a Pi is\, but what
  can you do besides making an LED light up with a button\, or make sounds 
 with a buzzer? \n \n\n Come join us at our first Raspberry Pi Jam kindly h
 osted by Science Gallery Dublin and it's FREE. \n\n Please note\, this is 
 an 18+ event \n\n \n\n We will have 3 activities: \n\n Beginners: Introduc
 tion to Raspberry Pis before joining the rest of the Intermediate groups. 
 Hopefully we have some borrowed Pis to get people acquainted with it. \n\n
  Intermediate: Know what a Raspberry Pi is and connected a button\, this g
 roup will be shown what else you can do with Raspberry Pi and other compon
 ents. This will be self-driven tutorial and we will have a few mentors to 
 help with any questions. \n\n Hobbyists: Those who have projects already\,
  or have one they want to start\, and are comfortable with electronics. Th
 is group will be connecting and sharing knowledge as well as demoing their
  project. \n
LAST-MODIFIED:20180814T222923
LOCATION:Dublin\, Ireland
ORGANIZER:mailto:pijam@eventgeek.ie
SUMMARY:First Pi Jam
URL;VALUE=URI:https://ti.to/dublin-raspberry-pi-jam/first-pi-jam
URL;VALUE=URI:https://ti.to/dublin-raspberry-pi-jam/first-pi-jam
END:VEVENT
END:VCALENDAR
