BEGIN:VCALENDAR
VERSION:2.0
PRODID:icalendar-ruby
CALSCALE:GREGORIAN
BEGIN:VEVENT
DTSTAMP:20260421T165332Z
UID:BPso7g
DTSTART;VALUE=DATE:20260226
DTEND;VALUE=DATE:20260227
CLASS:PUBLIC
CREATED:20250722T145726
DESCRIPTION: WHAT IT'S NOT: it's not communal hot-desking and it's not a me
 eting room. Office-for-a-Day is your own-door private office complete with
  desks\, monitors\, coffee\, secure Wi-Fi and a huge white board wall. \n\
 n SEATS: 1 - 10 people (1 desk per person) \n\n PRICE RANGE: €79 - €34
 9 \n\n HALF DAY OPTION: Use code AMPM to avail of 35% discount ( Mornings 
 08:45 - 12:45 / Afternoons 13:45 - 17:45) \n\n CANCELLATION: Full refund u
 p to 72 hours \n\n CITY CENTRE: Maximum 4 minute walk to over 100 bus / LU
 AS / Dart / Commuter Rail - super easy commute for team members \n\n  \nRE
 AD OUR CUSTOMER REVIEWS \n\n . \n\n Office for a Day \n\n If you have a ne
 ed to bring your team together\, without the grumbling of a hard commute\,
  tcube's "Office-for-a-Day" is the perfect solution. \n\n This private off
 ice is a low-cost option to bring your remote or distributed team together
 . Clarity\, team building\, productivity. It is the perfect choice when zo
 om or teams just isn't getting the job done. \n\n It has all the usual fea
 tures\; Monitors\, HD Screen / Whiteboard / Flipchart and secure 1Gb WiFi.
  Coffee\, tea and filtered water are on the house. \n\n .\n[youtube:pjo6uy
 J_hzQ]\n  \n\n Located BANG in the Middle of Dublin City \n\n  \nLocated a
 t No.1 O'Connell Street\, tcube's private meeting rooms are just 1-4 minut
 es walk to over 100 cross Dublin\, national and airport bus routes\, red a
 nd green LUAS lines\, and DART / train services\, meaning a one hop commut
 e for your team regardless of their home location. \n\n And among the bust
 le of the city centre's amenities\, means you can make the day exciting wi
 th a visit to your favourite restaurant after work hours. \n\n Multistorey
  car-parking at Arnott's or Fleet Street are less than 2 minutes walk. \n\
 n . \n\n Bright Vibrant Workspace \n\n Office-for-a-Day has panoramic view
 s across the River Liffey\, stretching across the south city and Dublin mo
 untains. It is flooded with sunlight (except when it's cloudy\, which is m
 ore often than not in Ireland\, but you get our point!) giving a light and
  airy vibe throughout - it's a wonderful space to get your teamsters in a 
 productive frame of mind so your goals can be achieved \n\n . \n\n Persona
 l Host \n\n A warm welcome awaits from your personal host who will show yo
 u and your guests to Office-for-a-Day and be on hand throughout the day to
  support you. \n\n . \n\n What Our Clients Say \n\n "Had a great experienc
 e with Tcube. Needed an office at short notice. tcube was easy to find\, e
 asy to access and they really made me feel really welcome in the short tim
 e I spent with them. Would definitely use their service again." \n\n Pat R
 yan\, Ireland. \n\n READ OUR CUSTOMER REVIEWS \n\n .\n  \n\n No Quibble Ca
 ncellation \n\n Book with confidence. If your plans change\, we offer a fu
 ll refund when written cancellation is received 72 hours before the reserv
 ation time. \n\n . \n\n Meeting Rooms \n\n We also have meeting rooms and 
 collaboration space at tcube to support your Office-for-a-Day. A discount 
 code is revealed when you book your Office-for-a-Day. \n\n Check meeting r
 oom options here \n
LAST-MODIFIED:20260210T071919
LOCATION:
ORGANIZER:mailto:noreply-calendar@tito.io
SUMMARY:Dublin Office-for-a-Day: Thursday
URL;VALUE=URI:https://ti.to/dublin-office-for-a-day/260226
URL;VALUE=URI:https://ti.to/dublin-office-for-a-day/260226
END:VEVENT
END:VCALENDAR
