BEGIN:VCALENDAR
VERSION:2.0
PRODID:icalendar-ruby
CALSCALE:GREGORIAN
BEGIN:VEVENT
DTSTAMP:20260424T105237Z
UID:1PXdNQ
DTSTART;VALUE=DATE:20180419
DTEND;VALUE=DATE:20180420
CLASS:PUBLIC
CREATED:20180414T221118
DESCRIPTION: We welcomed a Virtual Java User Group screening at the Dublin 
 Java User Group. \n\n Marcus Biel \n\n A Craftsman’s Guide to Designing 
 a Clean Architecture \n\n Doors Open 16:30 for 17:00 start. \n\n . \n\n In
  2018\, it seems like Microservices are the de facto standard for a system
  architecture\, but do they really live up to the hype? \n\n The talk will
  show you an alternative approach - how we can tame complexity with the he
 lp of a clean\, monolithic architecture that is modular to the core. Java 
 has been deliberately built from the ground up on a modular basis: Methods
 \, classes\, packages. Additionally\, the module system was introduced in 
 Java 9. Modularity is based on the fundamental concepts of high cohesion a
 nd low coupling. We will look at these concepts\, as well as some further 
 measures\, in detail. We'll check out what they are\, how they are related
  to one another\, and what the best practices are for applying them on all
  levels of the architecture. \n\n The talk will show you how you can apply
  these basic concepts to develop a clean\, monolithic architecture\, based
  on Java 9 modules and the hexagonal architecture pattern. Finally\, we'll
  learn how to achieve a clean microservice architecture based on a modular
  architecture. \n\n About Marcus Biel \n\n Marcus is a Clean Code evangeli
 st who has authored a series of video tutorials that focus on teaching oth
 ers how to create the cleanest and most well-structured code possible. As 
 a conference speaker\, he shares his ideas on Java Clean Code development.
  Marcus is also an author\, technical book reviewer and JCP member. In 201
 7\, Marcus was named TOP 13 Java influencer worldwide by jaxenter.com (htt
 p://bit.ly/top20JavaInfluencers). On his website Clean Code Academy\, he o
 ffers comprehensive online training for Java Clean Coding (https://join.cl
 eancodeacademy.com/). \n\n You can follow Marcus on twitter at @MarcusBiel
  \n\n The Dublin Java User Group - Sponsor Messages \n\n Stackand.Co enric
 h the professional lives of Java / Scala software professionals - with ove
 r 20 years experience in the Irish ICT market\, they have helped many grea
 t people elevate their careers. \n\n Perhaps they can do the same for you 
 working with companies like this one? \n\n Website: Stackand.Co / Twitter:
  StackanddotCo \n\n . \n\n GuruTeam delivers high end ICT learning\, mento
 ring and consultancy services\, in Ireland\, the UK and worldwide. Their e
 xpert instructors formulate bespoke training to suit their clients and can
  deliver programmes on or offsite. \n\n New courses for 2018 include Block
 chain with Ethereum / Corda (presented by Ben Evans)\, Machine Learning fo
 r Java and Python developers\, IoT\, GDPR\, Hands-on Web Security for Java
  Developers as well as Modern Security with Ben Evans\, Angular 5 and more
  \n\n Website: GuruTeamIrl.com / Twitter: GuruTeamIreland \n\n . \n\n Equi
 fax Technology Ireland is the Research and Development arm of global credi
 t scoring organisation Equifax - it has recently opened a technology centr
 e in the Bloodstone Building\, Dublin 2. \n\n Now looking for developers! 
 \n\n Website: Equifax.com / Twitter: Equifax \n\n . \n\n Version 1 is a tr
 usted technology partner to major domestic and international customers acr
 oss all industry sectors in the UK and Ireland. Their Java practice has gr
 own to over 120 people over the last few years\, and continues to grow. Ma
 ny of their Java customers use a significant amount of open-source tools a
 nd technologies\, and therefore Version 1 work with the community to hear 
 other Java success stories\, learn more about people’s experiences\, and
  bring in Java experts and champions to get the latest on what’s going o
 n in that space.” \n\n Website: Version1.com / Twitter: Version1Tweets \
 n\n . \n\n Teckro are rethinking every element of clinical research - the 
 people\, the processes\, the technologies used. By making it possible for 
 all relevant information to be instantly accessible to every active member
  of a clinical trial and for the entire study teams to be connected effort
 lessly\, they are broadening the possibilities of what can be achieved. Th
 is means drugs and treatments for the world’s most complex diseases are 
 being developed quicker\, and Teckro's long-term goal of continuously impr
 oving healthcare for everyone is realised. \n\n Teckro's partnership with 
 DubJUG means that they can interact and exchange ideas with some of Dublin
 ’s best developers. \n\n Website: Teckro.com / Twitter: TeckroOfficial \
 n\n . \n\n Sonorplex add the edge to event attendance with their innovativ
 e 'Mark and Review' video platform. Download the Sonorplex app on your sma
 rtphone\, attend DubJUG\, and click points of interest in realtime. Your o
 wn personal 'marked' copy will be available for reviewing within hours\, a
 llowing you to relive the presentations again and again! \n\n Website: Son
 orplex.com / Twitter: Sonorplex \n\n . \n\n tcube provides city-centre co-
 working / hotdesks and fully serviced office space for ICT professionals a
 nd companies specifically. Their community knits so well together remote w
 orkers\, contractors\, city visitors and entrepreneurs / startups immediat
 ely become a part of a network of like-minded people who are able and will
 ing to help one another. Offices in Fleet Street\, Trinity Street and Graf
 ton Street provide great locations with a huge benefit when it comes to hi
 ring and retaining millennials. \n\n Website: tcubedublin.com / Twitter: t
 cubeDublin \n\n . \n\n REGISTRATION NOTES \n\n The Dublin Java User Group 
 meetups are designed to enhance the knowledge of developers and technology
  professionals. \n\n Due to the overwhelming demand to attend our events t
 hey are always full so make sure you're subscribed to the wait-list to get
  the release notification of this and future Dublin Java User Group events
 . \n\n Better still\, email Team@DubJUG..org and we'll tell you how to bec
 ome a coveted platinum member of the Ireland's longest running and most re
 spected Java User Group. \n\n We reserve the right to cancel bookings if t
 he attendee is not aligned to the intended audience. No refunds for cancel
 lations\, no-shows or misalignments. \n\n MORE DUBLIN JAVA USER GROUP EVEN
 TS \n\n Java developers who are interested in this meetup are also attendi
 ng other Dublin Java User Group meetups - check them at DubJUG.org \n
LAST-MODIFIED:20250718T110347
LOCATION:TechMeetup.space\, (next to Palace Bar)\,  Fleet St\, Temple Bar\,
  Dublin 2
ORGANIZER:mailto:team@dubjug.org
SUMMARY:vJUG - A​ ​Craftsman’s​ ​Guide​ ​to​ ​Designing
 ​ ​a​ ​Clean Architecture
URL;VALUE=URI:https://ti.to/dublin-java-user-group/vjug-april-2018
URL;VALUE=URI:https://ti.to/dublin-java-user-group/vjug-april-2018
END:VEVENT
END:VCALENDAR
