BEGIN:VCALENDAR
VERSION:2.0
PRODID:icalendar-ruby
CALSCALE:GREGORIAN
BEGIN:VEVENT
DTSTAMP:20260424T110200Z
UID:fD2ETA
DTSTART;VALUE=DATE:20180913
DTEND;VALUE=DATE:20180914
CLASS:PUBLIC
CREATED:20180720T214658
DESCRIPTION: For September’s DubJUG event\, we were privileged to welcome
  Scott Sosna\, who works at Dell EMS Greater Minneapolis and also served o
 n the Content Review Committee for JavaOne. \n\n This event took place at 
 19:00 on Thursday 13th September. \n\n The full talk abstracts were shared
  below.. \n\n . \n\n REGISTRATION NOTES \n\n The Dublin Java User Group me
 etups are designed to enhance the knowledge of developers and technology p
 rofessionals*. Due to the overwhelming demand to attend our events they ar
 e always full. \n\n We reserve the right to cancel bookings if you are not
  aligned to our intended audience. No refunds are given for ticket cancell
 ations or no-shows. Check your diary carefully before booking! \n\n Email 
 Team@DubJUG.org if you're interested in becoming a coveted Platinum Member
  of the Ireland's longest running\, most respected and most active Java Us
 er Group. \n\n MORE DUBLIN JAVA USER GROUP EVENTS \n\n Java developers who
  are interested in this meetup are also attending other Dublin Java User G
 roup meetups - check them at DubJUG.org \n
LAST-MODIFIED:20250718T104704
LOCATION:TechMeetup.space\, (blue door next to Palace Bar)\,  Fleet St\, Te
 mple Bar\, Dublin\, D02 NW22
ORGANIZER:mailto:team@DubJUG.org
SUMMARY:Scott Sosna's Visualising Open Data with NEO4J
URL;VALUE=URI:https://ti.to/dublin-java-user-group/visualising-open-data-ne
 o4j-scott-sosna
URL;VALUE=URI:https://ti.to/dublin-java-user-group/visualising-open-data-ne
 o4j-scott-sosna
END:VEVENT
END:VCALENDAR
