BEGIN:VCALENDAR
VERSION:2.0
PRODID:icalendar-ruby
CALSCALE:GREGORIAN
BEGIN:VEVENT
DTSTAMP:20260424T105702Z
UID:U5HOgQ
DTSTART;VALUE=DATE:20180605
DTEND;VALUE=DATE:20180606
CLASS:PUBLIC
CREATED:20180521T182159
DESCRIPTION: Our first DubJUG in June saw a ‘tune-in’ to vJUG’s onlin
 e meetup with James Strachan\, where he covered Jenkins X\, followed by a 
 presentation on Java 8 Streams by local developer and DubJUG Platinum Memb
 er Anton Balaniuc. \n\n The full talk abstracts were shared below. \n\n . 
 \n\n REGISTRATION NOTES \n\n The Dublin Java User Group meetups are design
 ed to enhance the knowledge of developers and technology professionals. \n
 \n Due to the overwhelming demand to attend our events they are always ful
 l so make sure you're subscribed to the wait-list to get the release notif
 ication of this and future Dublin Java User Group events. \n\n Better stil
 l\, email Team@DubJUG..org and we'll tell you how to become a coveted Plat
 inum Member of the Ireland's longest running\, most respected and most act
 ive Java User Group. \n\n Doors for this event open at 16:30. If you can't
  make this early start time tune-in to the vJUG stream here \n\n MORE DUBL
 IN JAVA USER GROUP EVENTS \n\n Java developers who are interested in this 
 meetup are also attending other Dublin Java User Group meetups - check the
 m at DubJUG.org \n
LAST-MODIFIED:20250718T095433
LOCATION:TechMeetup.space\, (next to Palace Bar)\,  Fleet St\, Temple Bar\,
  Dublin 2
ORGANIZER:mailto:team@DubJUG.org
SUMMARY:vJUG - Jenkins X with James Strachan / Java 8 Streams with Anton Ba
 laniuc
URL;VALUE=URI:https://ti.to/dublin-java-user-group/vJUG-Jenkins-X-James-Str
 achan-Java-8-Streams-Anton-Balaniuc
URL;VALUE=URI:https://ti.to/dublin-java-user-group/vJUG-Jenkins-X-James-Str
 achan-Java-8-Streams-Anton-Balaniuc
END:VEVENT
END:VCALENDAR
