BEGIN:VCALENDAR
VERSION:2.0
PRODID:icalendar-ruby
CALSCALE:GREGORIAN
BEGIN:VEVENT
DTSTAMP:20260424T111248Z
UID:oOrQow
DTSTART;VALUE=DATE:20171031
DTEND;VALUE=DATE:20171101
CLASS:PUBLIC
CREATED:20171005T082710
DESCRIPTION: Our final October meetup was presented by Las Vegas-based Micr
 osoft Developer Advocate Brian Benz\, who showed some of the easiest ways 
 for Java developers to deliver their code to the cloud using Linux command
  line tools. \n\n Brian was a Senior Developer Advocate at Microsoft\, hel
 ping Java developers get the most out of Azure. Before joining Microsoft\,
  he had been a solution architect\, consultant\, developer\, author\, and 
 presenter at IBM\, Deloitte\, and other companies. \n\n You could follow h
 im on Twitter at @bbenz. \n\n . \n\n Top Ways to Deliver Your Java Code to
  the Cloud \n\n Brian will highlight the easiest ways for Java developers 
 to deliver their code to the cloud and the best ways to reliably make upda
 tes and maintain production cloud code. \n\n The focus will be on real-wor
 ld examples using Linux command line tools\, open source tools such as Jen
 kins\, and other free SDKs and tools available on GitHub. \n\n The example
 s\, tools and demos that he shows will be applicable to any cloud platform
 \, and all are available on GitHub. He will show Microsoft Azure running t
 he samples - this is a technical talk that will focus on the code. \n\n . 
 \n\n REGISTRATION NOTES \n\n The Dublin Java User Group meetups are design
 ed to enhance the knowledge of developers and technology professionals. \n
 \n To reduce the number of people who do not show up\, there is a small at
 tendance cost. But sure\, you'll get the value back in knowledge\, beer an
 d pizza! We also offer a limited number of free tickets. \n\n Due to the o
 verwhelming demand to attend our events they are always full so make sure 
 you're subscribed to the wait-list to get the release notification. \n\n W
 e reserve the right to cancel bookings if the attendee is not aligned to t
 he intended audience. \n\n Doors Open 18:15 / Presentations 19:00 \n\n The
  Dublin Java User Group - Sponsor Messages \n\n Stackand.Co enrich the pro
 fessional lives of Java / Scala software professionals - with over 20 year
 s experience in the Irish ICT market\, they have helped many great people 
 elevate their careers. \n\n Perhaps they can do the same for you working w
 ith companies like this one? \n\n Website: Stackand.Co / Twitter: Stackand
 dotCo \n\n . \n\n Equifax Technology Ireland is the Research and Developme
 nt arm of global credit scoring organisation Equifax - it has recently ope
 ned a technology centre in the Bloodstone Building\, Dublin 2. \n\n Now lo
 oking for developers! \n\n Website: Equifax.com / Twitter: Equifax \n\n . 
 \n\n GuruTeam's 'crème de la crème' instructors deliver an enthusing and
  valuable learning experience\, equipping attendees with the vital skills 
 applicable to their careers\, and bringing true business value to organisa
 tions they work with. \n\n Upcoming courses include CI with Jenkins\, Apac
 he Hadoop\, Data Science &amp\; Big Data Analytics\, Spring\, GIT\, Linux 
 Foundation™\, Angular 2\, and OpenStack™ \n\n Website: GuruTeamIrl.com
  / Twitter: GuruTeamIreland \n\n . \n\n Version 1 is a trusted technology 
 partner to major domestic and international customers across all industry 
 sectors in the UK and Ireland. Their Java practice has grown to over 120 p
 eople over the last few years\, and continues to grow. Many of their Java 
 customers use a significant amount of open-source tools and technologies\,
  and therefore Version 1 work with the community to hear other Java succes
 s stories\, learn more about people’s experiences\, and bring in Java ex
 perts and champions to get the latest on what’s going on in that space.
 ” \n\n Website: Version1.com / Twitter: Version1Tweets \n\n . \n\n Teckr
 o are rethinking every element of clinical research - the people\, the pro
 cesses\, the technologies used. By making it possible for all relevant inf
 ormation to be instantly accessible to every active member of a clinical t
 rial and for the entire study teams to be connected effortlessly\, they ar
 e broadening the possibilities of what can be achieved. This means drugs a
 nd treatments for the world’s most complex diseases are being developed 
 quicker\, and Teckro's long-term goal of continuously improving healthcare
  for everyone is realised. \n\n Teckro's partnership with DubJUG means tha
 t they can interact and exchange ideas with some of Dublin’s best develo
 pers. \n\n Website: Teckro.com / Twitter: TeckroOfficial \n\n . \n\n Sonor
 plex add the edge to event attendance with their innovative 'Mark and Revi
 ew' video platform. Download the Sonorplex app on your smartphone\, attend
  DubJUG\, and click points of interest in realtime. Your own personal 'mar
 ked' copy will be available for reviewing within hours\, allowing you to r
 elive the presentations again and again! \n\n Website: Sonorplex.com / Twi
 tter: Sonorplex \n\n . \n\n tcube provides city-centre co-working / hotdes
 ks and fully serviced office space for ICT professionals and companies spe
 cifically. Their community knits so well together remote workers\, contrac
 tors\, city visitors and entrepreneurs / startups immediately become a par
 t of a network of like-minded people who are able and willing to help one 
 another. Offices in Fleet Street\, Trinity Street and Grafton Street provi
 de great locations with a huge benefit when it comes to hiring and retaini
 ng millennials. \n\n Website: tcubedublin.com / Twitter: tcubeDublin \n\n 
 . \n\n MORE DUBLIN JAVA USER GROUP EVENTS \n\n Java developers who are int
 erested in this meetup are also attending other Dublin Java User Group mee
 tups - check them at DubJUG.org \n\n SORRY EVENT FINISHED - CLICK HERE TO 
 VIEW UPCOMING JAVA EVENTS \n
LAST-MODIFIED:20250718T110619
LOCATION:TechMeetup.space\, (next to Palace Bar)\,  Fleet St\, Temple Bar\,
  Dublin 2
ORGANIZER:mailto:techmeetupspace@IrishDev.com
SUMMARY:Top Ways to Deliver Java Code to the Cloud
URL;VALUE=URI:https://ti.to/dublin-java-user-group/top-ways-to-deliver-java
 -code-to-cloud
URL;VALUE=URI:https://ti.to/dublin-java-user-group/top-ways-to-deliver-java
 -code-to-cloud
END:VEVENT
END:VCALENDAR
