BEGIN:VCALENDAR
VERSION:2.0
PRODID:icalendar-ruby
CALSCALE:GREGORIAN
BEGIN:VEVENT
DTSTAMP:20260424T105108Z
UID:IKeeDA
DTSTART;VALUE=DATE:20241024
DTEND;VALUE=DATE:20241025
CLASS:PUBLIC
CREATED:20240905T185711
DESCRIPTION: On the run up to Halloween 2024\, Java Champion Steve Poole ma
 de a long-awaited return to the Dublin Java User Group to scare the bejesu
 s out of you\, the java developer. \n\n ABSTRACTS BELOW ⤵️ \n
LAST-MODIFIED:20250718T101138
LOCATION:Dublin City Centre
ORGANIZER:mailto:team@DubJUG.org
SUMMARY:DubJUG October - Steve Poole Came Back!
URL;VALUE=URI:https://ti.to/dublin-java-user-group/steve-poole-is-back
URL;VALUE=URI:https://ti.to/dublin-java-user-group/steve-poole-is-back
END:VEVENT
END:VCALENDAR
