BEGIN:VCALENDAR
VERSION:2.0
PRODID:icalendar-ruby
CALSCALE:GREGORIAN
BEGIN:VEVENT
DTSTAMP:20260424T111117Z
UID:SzOHXA
DTSTART;VALUE=DATE:20210930
DTEND;VALUE=DATE:20211001
CLASS:PUBLIC
CREATED:20210906T123451
DESCRIPTION: Java Champion Bruno Borges visited the Oracle Dublin Java User
  Group in September. Bruno explained why Microsoft acknowledges and suppor
 ts the adoption of custom Java runtimes crafted for specific application n
 eeds rather than the use of general-purpose Java runtimes. \n\n REGISTRATI
 ON NOTES \n\n The Dublin Java User Group events are designed to enrich the
  knowledge and careers of developers and technology professionals. By book
 ing your seat\, you agree to the booking conditions \n\n PLATINUM MEMBERSH
 IP \n\n Due to the overwhelming demand to attend\, our events are always f
 ull. Priority booking is offered to our Platinum Members. Email Team@DubJU
 G.org if you'd like to know more about becoming a coveted Platinum Member 
 of the Ireland's longest running\, most respected and most active Java Use
 r Group. \n\n MORE DUBLIN JAVA USER GROUP EVENTS \n\n Interested in meetin
 g Java Rockstars? Check out our other Dublin Java User Group events - DubJ
 UG.org \n
LAST-MODIFIED:20250715T143840
LOCATION:
ORGANIZER:mailto:team@dubjug.org
SUMMARY:September 2021 - Microsoft's Bruno Borges
URL;VALUE=URI:https://ti.to/dublin-java-user-group/september-2021-microsoft
 -s-bruno-borges
URL;VALUE=URI:https://ti.to/dublin-java-user-group/september-2021-microsoft
 -s-bruno-borges
END:VEVENT
END:VCALENDAR
