BEGIN:VCALENDAR
VERSION:2.0
PRODID:icalendar-ruby
CALSCALE:GREGORIAN
BEGIN:VEVENT
DTSTAMP:20260424T111109Z
UID:VUBnng
DTSTART;VALUE=DATE:20220928
DTEND;VALUE=DATE:20220929
CLASS:PUBLIC
CREATED:20220814T105255
DESCRIPTION: Matt Raible\, Java Champion\, and Okta Developer advocate was 
 back at the Dublin Java User Group on Wednesday 28th September - we had on
 e almighty in-person deep dive - Micro Frontends for Java Developers. Live
 stream recorded \n
LAST-MODIFIED:20250718T092046
LOCATION:Dublin City Centre
ORGANIZER:mailto:team@DubJUG.org
SUMMARY:September 2022 - Java Champion Matt Raible
URL;VALUE=URI:https://ti.to/dublin-java-user-group/sept-2022-java-champion-
 okta-matt-raible
URL;VALUE=URI:https://ti.to/dublin-java-user-group/sept-2022-java-champion-
 okta-matt-raible
END:VEVENT
END:VCALENDAR
