BEGIN:VCALENDAR
VERSION:2.0
PRODID:icalendar-ruby
CALSCALE:GREGORIAN
BEGIN:VEVENT
DTSTAMP:20260424T105406Z
UID:w88v2A
DTSTART;VALUE=DATE:20220914
DTEND;VALUE=DATE:20220915
CLASS:PUBLIC
CREATED:20220817T094127
DESCRIPTION: In September 2022 Java Champion Ixchel Ruiz joined us from Swi
 tzerland to present two outstanding talks\, 'DevOps for Java Developers'\,
  and 'Framework Agnostic REST API Testing'\, both choices of our platinum 
 members. \n\n Read below for full details... \n\n REGISTRATION NOTES \n\n 
 The Dublin Java User Group events are designed to enrich the knowledge and
  careers of developers and technology professionals. By booking your seat\
 , you agree to the booking conditions \n\n PUBLIC HEALTH: We aim to provid
 e a safe space to meet in-person - please do not attend this event if you 
 are currently or in the last ten days prior to the event\, experienced sym
 ptoms of cold\, flu\, Covid-19\, winter vomiting. Thank you. \n\n MORE DUB
 LIN JAVA USER GROUP EVENTS\nMeet JavaOne Rockstars and Java Champions! Che
 ck out our other Dublin Java User Group events - DubJUG.org \n
LAST-MODIFIED:20250718T101834
LOCATION:Dublin City Centre
ORGANIZER:mailto:team@DubJUG.org
SUMMARY:September 2022 - Java Champion Ixchel Ruiz
URL;VALUE=URI:https://ti.to/dublin-java-user-group/sep-2022-java-champion-i
 xchel-ruiz
URL;VALUE=URI:https://ti.to/dublin-java-user-group/sep-2022-java-champion-i
 xchel-ruiz
END:VEVENT
END:VCALENDAR
