BEGIN:VCALENDAR
VERSION:2.0
PRODID:icalendar-ruby
CALSCALE:GREGORIAN
BEGIN:VEVENT
DTSTAMP:20260424T105124Z
UID:shOVTA
DTSTART;VALUE=DATE:20181030
DTEND;VALUE=DATE:20181031
CLASS:PUBLIC
CREATED:20180924T101324
DESCRIPTION: On 30th October 2018\, we welcomed Tim Graves to the Oracle Du
 blin Java User Group. Tim worked on architecting cloud-native solutions\, 
 including the use of the Oracle IoT Cloud Service to bring data into the e
 nvironment and enable the creation of digital replicas of physical devices
 . \n\n The full talk abstracts were shared below. The Dublin 2 venue was r
 evealed on booking.\n. \n\n REGISTRATION NOTES \n\n The Dublin Java User G
 roup meetups are designed to enhance the knowledge of developers and techn
 ology professionals*. Due to the overwhelming demand to attend our events 
 they are always full. \n\n We reserve the right to cancel bookings if you 
 are not aligned to our intended audience. No refunds are given for ticket 
 cancellations or no-shows. Check your diary carefully before booking! \n\n
  Email Team@DubJUG.org if you're interested in becoming a coveted Platinum
  Member of the Ireland's longest running\, most respected and most active 
 Java User Group. \n\n MORE DUBLIN JAVA USER GROUP EVENTS \n\n **Interested
  in meeting Java Rockstars? Check out our other Dublin Java User Group eve
 nts - ** DubJUG.org \n
LAST-MODIFIED:20250718T104339
LOCATION:Dublin City Centre
ORGANIZER:mailto:team@DubJUG.org
SUMMARY:Oracle IOT Workshop
URL;VALUE=URI:https://ti.to/dublin-java-user-group/oracle-iot-tim-graves
URL;VALUE=URI:https://ti.to/dublin-java-user-group/oracle-iot-tim-graves
END:VEVENT
END:VCALENDAR
