BEGIN:VCALENDAR
VERSION:2.0
PRODID:icalendar-ruby
CALSCALE:GREGORIAN
BEGIN:VEVENT
DTSTAMP:20260424T111109Z
UID:QKIgXw
DTSTART;VALUE=DATE:20221123
DTEND;VALUE=DATE:20221124
CLASS:PUBLIC
CREATED:20221104T144724
DESCRIPTION: Interested in learning about lambdas streams and collectors in
  depth? \n\n These powerful Java features allow you to implement complex o
 perations clearly and concisely. This one-day course introduces the ideas 
 of lambdas and streams\, and then takes you from the basics to advanced us
 e cases. \n
LAST-MODIFIED:20250718T092006
LOCATION:Dublin City Centre
ORGANIZER:mailto:team@DubJUG.org
SUMMARY:Learn Lambdas\, Streams & Collectors with Maurice
URL;VALUE=URI:https://ti.to/dublin-java-user-group/nov-2022-lambdas-streams
 -collectors-course
URL;VALUE=URI:https://ti.to/dublin-java-user-group/nov-2022-lambdas-streams
 -collectors-course
END:VEVENT
END:VCALENDAR
