BEGIN:VCALENDAR
VERSION:2.0
PRODID:icalendar-ruby
CALSCALE:GREGORIAN
BEGIN:VEVENT
DTSTAMP:20260424T105845Z
UID:MxkPPQ
DTSTART;VALUE=DATE:20221123
DTEND;VALUE=DATE:20221124
CLASS:PUBLIC
CREATED:20220827T091042
DESCRIPTION: We hope you joined us in-person on the evening of Wednesday 23
 rd November at TechMeetup.Space\, Dublin city centre\, was multi-award win
 ning Java Rockstar and Java Champion\, Maurice Naftalin. The event was in-
 person and livestream. \n\n During the day Maurice was running a heavily s
 ubsidised Lambda training session - every software developer should be pro
 ficient in this area - spaces limited - details \n
LAST-MODIFIED:20250718T091948
LOCATION:Dublin City Centre
ORGANIZER:mailto:team@DubJUG.org
SUMMARY:November 2022 - Maurice Naftalin
URL;VALUE=URI:https://ti.to/dublin-java-user-group/nov-2022-java-champion-m
 aurice-naftalin
URL;VALUE=URI:https://ti.to/dublin-java-user-group/nov-2022-java-champion-m
 aurice-naftalin
END:VEVENT
END:VCALENDAR
