BEGIN:VCALENDAR
VERSION:2.0
PRODID:icalendar-ruby
CALSCALE:GREGORIAN
BEGIN:VEVENT
DTSTAMP:20260424T105942Z
UID:C823Kw
DTSTART;VALUE=DATE:20221102
DTEND;VALUE=DATE:20221103
CLASS:PUBLIC
CREATED:20220916T074740
DESCRIPTION: Java Champion Holly Cummins was joining us in-person on the ev
 ening of Wednesday 2nd November at TechMeetup.Space. She presented 'Cloud 
 Chaos and Microservices Mayhem\,' and her brand new\, never presented befo
 re talk\, 'Writing Greener Java Applications.' \n
LAST-MODIFIED:20250718T101642
LOCATION:Dublin City Centre
ORGANIZER:mailto:team@DubJUG.org
SUMMARY:October 2022 - Java Champion Holly Cummins
URL;VALUE=URI:https://ti.to/dublin-java-user-group/nov-2022-java-champion-h
 olly-cummins
URL;VALUE=URI:https://ti.to/dublin-java-user-group/nov-2022-java-champion-h
 olly-cummins
END:VEVENT
END:VCALENDAR
