BEGIN:VCALENDAR
VERSION:2.0
PRODID:icalendar-ruby
CALSCALE:GREGORIAN
BEGIN:VEVENT
DTSTAMP:20260424T105154Z
UID:XIdJwQ
DTSTART;VALUE=DATE:20180222
DTEND;VALUE=DATE:20180223
CLASS:PUBLIC
CREATED:20171215T112302
DESCRIPTION: For our second DubJUG event of 2018\, we were very honoured to
  have Java Champion\, JavaOne Rockstar\, and leader of the NLJUG\, Bert Ja
 n Schrijver\, come to Dublin to share his immense knowledge with our commu
 nity. But this was not academic stuff! He shared real-life project cases\,
  discussed why and how the Dutch National Police force implemented microse
 rvices\, and why a startup uses the Vert.x event-driven\, non-blocking\, a
 nd polyglot toolkit for building reactive applications. \n\n Bert Jan pres
 ented...\n  \n\n Microservices in Action at the Dutch National Police \n\n
  and \n\n Building Microservices with Vert.x \n\n Doors Open 18:15 (evenin
 g session) \n\n .\n. \n\n About Bert Jan Schrijver \n\n Bert Jan is a soft
 ware craftsman at Dutch software consultancy JPoint and CTO at OpenValue. 
 He has a strong focus on Java\, Continuous Delivery and DevOps. \n\n Bert 
 Jan is a Java Champion\, JavaOne Rock Star speaker and user group leader f
 or NLJUG\, the Dutch Java User Group. He loves to share his experience by 
 speaking at conferences\, writing for the Dutch Java magazine and helping 
 out Devoxx4Kids with teaching kids how to code. \n\n Follow Bert Jan on tw
 itter at @bjschrijver \n\n .\n. \n\n Microservices in Action at the Dutch 
 National Police \n\n Microservices? At the Police? Definitely! \n\n At the
  Cloud\, Big Data and Internet division of the Dutch National Police\, 3 D
 evOps teams use the latest open source technology to build high tech web a
 pplications. These applications are used to support digital investigation 
 and incident response with data from open\, online sources and are built u
 sing Spring Boot\, Angular 2.x\, Spark\, Kafka and Jenkins 2. \n\n In this
  session\, Bert Jan will share their experiences and real-world use cases 
 for microservices. He will explain the architecture\, why it was chosen\, 
 which challenges were faced and how this brought the three teams together 
 to work on one product\, loosely based on the models used by Spotify and N
 etflix. \n\n Bert Jan will also share how the principles of DevOps and Con
 tinuous Delivery were applied\, and how security\, build pipelines\, test 
 automation\, performance tests\, automated deployments and monitoring were
  handled. \n\n You'll leave this session with an understanding of how this
  approach enabled the team to have the agility of a startup within the lar
 ge Police organisation.\n. \n\n Building Microservices with Vert.x \n\n Ve
 rt.x is a toolkit for building reactive applications on the JVM. It is eve
 nt driven\, non blocking and polyglot\, which makes it an excellent platfo
 rm for building microservices. It was awarded for 'Most Innovative Java Te
 chnology' at the JAX Innovation awards. \n\n In this talk\, Bert Jan will 
 share experiences and real-world use cases from a Dutch company that start
 ed building reactive web applications with Vert.x about 4 years ago. You'l
 l learn the concepts behind Vert.x\, why Vert.x was chosen\, how it is bei
 ng used and the challenges that were faced. \n\n Topics include the anatom
 y of the projects\, (micro)services architecture\, deployment model and De
 vOps\, scalability\, the upgrade from Vert.x 2 to Vert.x 3 and cooperation
  with the team behind Vert.x. \n\n At the end of this session\, you'll kno
 w enough about Vert.x to get started yourself right away! \n\n . \n\n REGI
 STRATION NOTES \n\n The Dublin Java User Group meetups are designed to enh
 ance the knowledge of developers and technology professionals. \n\n Due to
  the overwhelming demand to attend our events they are always full. On occ
 asion\, a small attendance fee may be required. \n\n The organisers reserv
 e the right to cancel the booking if the attendee is not aligned to the in
 tended audience. \n\n The Dublin Java User Group - Sponsor Messages \n\n S
 tackand.Co enrich the professional lives of Java / Scala software professi
 onals - with over 20 years experience in the Irish ICT market\, they have 
 helped many great people elevate their careers. \n\n Perhaps they can do t
 he same for you working with companies like this one? \n\n Website: Stacka
 nd.Co / Twitter: StackanddotCo \n\n . \n\n Equifax Technology Ireland is t
 he Research and Development arm of global credit scoring organisation Equi
 fax - it has recently opened a technology centre in the Bloodstone Buildin
 g\, Dublin 2. \n\n Now looking for developers! \n\n Website: Equifax.com /
  Twitter: Equifax \n\n . \n\n GuruTeam's 'crème de la crème' instructors
  deliver an enthusing and valuable learning experience\, equipping attende
 es with the vital skills applicable to their careers\, and bringing true b
 usiness value to organisations they work with. \n\n Upcoming courses inclu
 de CI with Jenkins\, Apache Hadoop\, Data Science &amp\; Big Data Analytic
 s\, Spring\, GIT\, Linux Foundation™\, Angular 2\, and OpenStack™ \n\n
  Website: GuruTeamIrl.com / Twitter: GuruTeamIreland \n\n . \n\n Version 1
  is a trusted technology partner to major domestic and international custo
 mers across all industry sectors in the UK and Ireland. Their Java practic
 e has grown to over 120 people over the last few years\, and continues to 
 grow. Many of their Java customers use a significant amount of open-source
  tools and technologies\, and therefore Version 1 work with the community 
 to hear other Java success stories\, learn more about people’s experienc
 es\, and bring in Java experts and champions to get the latest on what’s
  going on in that space.” \n\n Website: Version1.com / Twitter: Version1
 Tweets \n\n . \n\n Teckro are rethinking every element of clinical researc
 h - the people\, the processes\, the technologies used. By making it possi
 ble for all relevant information to be instantly accessible to every activ
 e member of a clinical trial and for the entire study teams to be connecte
 d effortlessly\, they are broadening the possibilities of what can be achi
 eved. This means drugs and treatments for the world’s most complex disea
 ses are being developed quicker\, and Teckro's long-term goal of continuou
 sly improving healthcare for everyone is realised. \n\n Teckro's partnersh
 ip with DubJUG means that they can interact and exchange ideas with some o
 f Dublin’s best developers. \n\n Website: Teckro.com / Twitter: TeckroOf
 ficial \n\n . \n\n Sonorplex add the edge to event attendance with their i
 nnovative 'Mark and Review' video platform. Download the Sonorplex app on 
 your smartphone\, attend DubJUG\, and click points of interest in realtime
 . Your own personal 'marked' copy will be available for reviewing within h
 ours\, allowing you to relive the presentations again and again! \n\n Webs
 ite: Sonorplex.com / Twitter: Sonorplex \n\n . \n\n tcube provides city-ce
 ntre co-working / hotdesks and fully serviced office space for ICT profess
 ionals and companies specifically. Their community knits so well together 
 remote workers\, contractors\, city visitors and entrepreneurs / startups 
 immediately become a part of a network of like-minded people who are able 
 and willing to help one another. Offices in Fleet Street\, Trinity Street 
 and Grafton Street provide great locations with a huge benefit when it com
 es to hiring and retaining millennials. \n\n Website: tcubedublin.com / Tw
 itter: tcubeDublin \n\n . \n\n MORE DUBLIN JAVA USER GROUP EVENTS \n\n Jav
 a developers who are interested in this meetup are also attending other Du
 blin Java User Group meetups - check them at DubJUG.org \n\n SORRY EVENT F
 INISHED - CLICK HERE TO VIEW UPCOMING JAVA EVENTS \n
LAST-MODIFIED:20250718T110446
LOCATION:TechMeetup.space\, (next to Palace Bar)\,  Fleet St\, Temple Bar\,
  Dublin 2
ORGANIZER:mailto:team@DubJUG.org
SUMMARY:Microservices in Action at the Dutch National Police & Vert.x
URL;VALUE=URI:https://ti.to/dublin-java-user-group/microservices-bert-jan-s
 chrijver
URL;VALUE=URI:https://ti.to/dublin-java-user-group/microservices-bert-jan-s
 chrijver
END:VEVENT
END:VCALENDAR
