BEGIN:VCALENDAR
VERSION:2.0
PRODID:icalendar-ruby
CALSCALE:GREGORIAN
BEGIN:VEVENT
DTSTAMP:20260424T111147Z
UID:dM9RVA
DTSTART;VALUE=DATE:20200310
DTEND;VALUE=DATE:20200311
CLASS:PUBLIC
CREATED:20200207T063018
DESCRIPTION: Frank Fischer\, head of Developer Relations at DeepCode\, the 
 Zurich-based company that uses AI to identify bugs before they happen\, ca
 me to present at the Dublin Java User Group in the city centre on the even
 ing of Tuesday\, March 10th. \n\n REGISTRATION NOTES \n\n The Dublin Java 
 User Group events are designed to enrich the knowledge and careers of deve
 lopers and technology professionals. By booking your seat\, you agree to t
 he booking conditions \n\n PLATINUM MEMBERSHIP \n\n Due to the overwhelmin
 g demand to attend\, our events are always full. Priority booking is offer
 ed to our Platinum Members. Email Team@DubJUG.org if you'd like to know mo
 re about becoming a coveted Platinum Member of the Ireland's longest runni
 ng\, most respected and most active Java User Group. \n\n MORE DUBLIN JAVA
  USER GROUP EVENTS \n\n Interested in meeting Java Rockstars? Check out ou
 r other Dublin Java User Group events - DubJUG.org \n
LAST-MODIFIED:20250718T102540
LOCATION:Dublin City Centre
ORGANIZER:mailto:team@DubJUG.org
SUMMARY:March 2020 - DeepCodesAI's Frank Fischer
URL;VALUE=URI:https://ti.to/dublin-java-user-group/mar-2020-frank-fischer
URL;VALUE=URI:https://ti.to/dublin-java-user-group/mar-2020-frank-fischer
END:VEVENT
END:VCALENDAR
