BEGIN:VCALENDAR
VERSION:2.0
PRODID:icalendar-ruby
CALSCALE:GREGORIAN
BEGIN:VEVENT
DTSTAMP:20260424T104740Z
UID:fikdnA
DTSTART;VALUE=DATE:20180627
DTEND;VALUE=DATE:20180628
CLASS:PUBLIC
CREATED:20180520T144654
DESCRIPTION: For the DubJUG June event\, we welcomed back Brian Benz\, a Mi
 crosoft Advocate on Java technologies. This presentation built upon his hi
 ghly acclaimed talk at DubJUG in November 2017\, followed by a session on 
 serverless. \n\n The full talk abstracts were shared below. \n\n . \n\n RE
 GISTRATION NOTES \n\n The Dublin Java User Group meetups are designed to e
 nhance the knowledge of developers and technology professionals. \n\n Due 
 to the overwhelming demand to attend our events they are always full so ma
 ke sure you're subscribed to the wait-list to get the release notification
  of this and future Dublin Java User Group events. \n\n Better still\, ema
 il Team@DubJUG..org and we'll tell you how to become a coveted Platinum Me
 mber of the Ireland's longest running\, most respected and most active Jav
 a User Group. \n\n MORE DUBLIN JAVA USER GROUP EVENTS \n\n Java developers
  who are interested in this meetup are also attending other Dublin Java Us
 er Group meetups - check them at DubJUG.org \n
LAST-MODIFIED:20250718T110110
LOCATION:TechMeetup.space\, (next to Palace Bar)\,  Fleet St\, Temple Bar\,
  Dublin 2
ORGANIZER:mailto:team@DubJUG.org
SUMMARY:Live Coding with Spring Music: Top 5 Ways to Deploy Java to the Clo
 ud
URL;VALUE=URI:https://ti.to/dublin-java-user-group/live-coding-spring-music
URL;VALUE=URI:https://ti.to/dublin-java-user-group/live-coding-spring-music
END:VEVENT
END:VCALENDAR
