BEGIN:VCALENDAR
VERSION:2.0
PRODID:icalendar-ruby
CALSCALE:GREGORIAN
BEGIN:VEVENT
DTSTAMP:20260424T105010Z
UID:OHtbtg
DTSTART;VALUE=DATE:20220629
DTEND;VALUE=DATE:20220630
CLASS:PUBLIC
CREATED:20220522T094626
DESCRIPTION: The midsummer of June 2022 saw Java Champion Simon Ritter join
  us in Dublin\, presenting two fabulous sessions\; The Art of Java Languag
 e Pattern Matching\, and Java on CRaC: Superfast JVM Application Start-up.
  \n
LAST-MODIFIED:20250718T101904
LOCATION:Dublin City Centre
ORGANIZER:mailto:team@DubJUG.org
SUMMARY:June 2022 - Java Champion Simon Ritter
URL;VALUE=URI:https://ti.to/dublin-java-user-group/jun-2022-java-champion-s
 imon-ritter
URL;VALUE=URI:https://ti.to/dublin-java-user-group/jun-2022-java-champion-s
 imon-ritter
END:VEVENT
END:VCALENDAR
