BEGIN:VCALENDAR
VERSION:2.0
PRODID:icalendar-ruby
CALSCALE:GREGORIAN
BEGIN:VEVENT
DTSTAMP:20260424T105308Z
UID:x42mJw
DTSTART;VALUE=DATE:20220120
DTEND;VALUE=DATE:20220126
CLASS:PUBLIC
CREATED:20220107T122759
DESCRIPTION: The Dublin Java User Group hosted a WATCH PARTY of the jChampi
 ons Conference 2022 on the afternoons and evenings of Thursday 20th\, Frid
 ay 21st\, Monday 24th\, and Tuesday 25th January at TechMeetup.Space in tc
 ube\, No.1 O'Connell Street.. \n\n Monday's session will also see local Ja
 va Champion Rafael del Nero present his session live from DubJUG. \n\n REG
 ISTRATION NOTES \n\n The Dublin Java User Group events are designed to enr
 ich the knowledge and careers of developers and technology professionals. 
 By booking your seat\, you agree to the booking conditions \n\n COVID-19: 
 Attendees must be "fully vaccinated"\, bringing your cert and ID with you.
  People will be seated 2m apart which means spaces are limited. Pre-bookin
 g\, therefore\, is essential. No booking or Covid cert - no entry! \n\n MO
 RE DUBLIN JAVA USER GROUP EVENTS \n\n Interested in meeting Java Rockstars
 ? Check out our other Dublin Java User Group events - DubJUG.org \n
LAST-MODIFIED:20250718T102401
LOCATION:Dublin City Centre
ORGANIZER:mailto:team@DubJUG.org
SUMMARY:January 2022 - jChampions Conference Watch Party
URL;VALUE=URI:https://ti.to/dublin-java-user-group/jconference-2022
URL;VALUE=URI:https://ti.to/dublin-java-user-group/jconference-2022
END:VEVENT
END:VCALENDAR
