BEGIN:VCALENDAR
VERSION:2.0
PRODID:icalendar-ruby
CALSCALE:GREGORIAN
BEGIN:VEVENT
DTSTAMP:20260424T104535Z
UID:ncKiug
DTSTART;VALUE=DATE:20200827
DTEND;VALUE=DATE:20200828
CLASS:PUBLIC
CREATED:20200207T063018
DESCRIPTION: Java celebrated its 25th anniversary that year\, and the Dubli
 n Java User Group marked the occasion with a day-long mini-conf\, #Java25\
 , on Thursday 27th August in Dublin city centre for 100 developers. \n\n R
 EGISTRATION NOTES \n\n The Dublin Java User Group events are designed to e
 nrich the knowledge and careers of developers and technology professionals
 . By booking your seat\, you agree to the booking conditions \n
LAST-MODIFIED:20250718T102449
LOCATION:Dublin City Centre
ORGANIZER:mailto:team@DubJUG.org
SUMMARY:Java25 - Celebrating Java's 25th Anniversary
URL;VALUE=URI:https://ti.to/dublin-java-user-group/java25
URL;VALUE=URI:https://ti.to/dublin-java-user-group/java25
END:VEVENT
END:VCALENDAR
