BEGIN:VCALENDAR
VERSION:2.0
PRODID:icalendar-ruby
CALSCALE:GREGORIAN
BEGIN:VEVENT
DTSTAMP:20260424T104535Z
UID:yNHdsw
DTSTART;VALUE=DATE:20180726
DTEND;VALUE=DATE:20180727
CLASS:PUBLIC
CREATED:20180607T185409
DESCRIPTION: For the last DubJUG event in July\, we welcomed Matthew Gillia
 rd\, who works at Oracle UK. Matthew shared his expert knowledge around co
 ntainers and serverless. \n\n This event took place at 19:00 on Thursday 2
 6th July. \n\n The full talk abstracts were shared below. \n\n . \n\n REGI
 STRATION NOTES \n\n The Dublin Java User Group meetups are designed to enh
 ance the knowledge of developers and technology professionals*. Due to the
  overwhelming demand to attend our events they are always full. \n\n We re
 serve the right to cancel bookings if you are not aligned to our intended 
 audience. No refunds are given for ticket cancellations or no-shows. Check
  your diary carefully before booking! \n\n Email Team@DubJUG.org if you're
  interested in becoming a coveted Platinum Member of the Ireland's longest
  running\, most respected and most active Java User Group. \n\n MORE DUBLI
 N JAVA USER GROUP EVENTS \n\n Java developers who are interested in this m
 eetup are also attending other Dublin Java User Group meetups - check them
  at DubJUG.org \n
LAST-MODIFIED:20250718T110021
LOCATION:TechMeetup.space\, (next to Palace Bar)\,  Fleet St\, Temple Bar\,
  Dublin 2
ORGANIZER:mailto:team@DubJUG.org
SUMMARY:Java - Containers and Serverless
URL;VALUE=URI:https://ti.to/dublin-java-user-group/java-containers-serverle
 ss
URL;VALUE=URI:https://ti.to/dublin-java-user-group/java-containers-serverle
 ss
END:VEVENT
END:VCALENDAR
