BEGIN:VCALENDAR
VERSION:2.0
PRODID:icalendar-ruby
CALSCALE:GREGORIAN
BEGIN:VEVENT
DTSTAMP:20260424T105032Z
UID:kd4JIA
DTSTART:20241108T181500
DTEND:20241108T210000
CLASS:PUBLIC
CREATED:20241012T070939
DESCRIPTION: We joined on "Friday" evening of 8th November as Java Champion
  Otavio Santana returns to the Dublin Java User Group along with Juarez Ba
 rbosa Junior. \n\n ABSTRACTS BELOW ⤵️ \n
LAST-MODIFIED:20250718T090805
LOCATION:Dublin City Centre
ORGANIZER:mailto:team@DubJUG.org
SUMMARY:DubJUG November - Java Champion Otavio Santana and Juarez Barbosa J
 nr.
URL;VALUE=URI:https://ti.to/dublin-java-user-group/java-champion-otavio-san
 tana
URL;VALUE=URI:https://ti.to/dublin-java-user-group/java-champion-otavio-san
 tana
END:VEVENT
END:VCALENDAR
