BEGIN:VCALENDAR
VERSION:2.0
PRODID:icalendar-ruby
CALSCALE:GREGORIAN
BEGIN:VEVENT
DTSTAMP:20260424T104658Z
UID:cAQOUg
DTSTART;VALUE=DATE:20171213
DTEND;VALUE=DATE:20171214
CLASS:PUBLIC
CREATED:20171203T105850
DESCRIPTION: Our last event of 2017 saw Barry Evans and Rafael Chinelato De
 l Nero present 10 Java Challenges\, an interactive Java quiz that stretche
 d attendees’ grey matter. Representing the Dublin Java User Group\, the 
 duo had first presented Java Challenges at JavaOne and had since put devel
 opers in Belfast\, Brazil\, and Bangladesh to the test — so it was about
  time they challenged you guys in Dublin too. Well done to Synchronoss guy
 s Brian Matthews and Fatih Aydin\, who scored 8/10! \n\n Java Challenges \
 n\n by \n\n Barry Evans and Rafael Chinelato Del Nero \n\n Doors Open 18:1
 5 \n\n Your Speakers \n\n Barry Evans is a seasoned web application engine
 er with over 10 years experience developing enterprise applications predom
 inantly in the financial sector. Presently\, he is an Oracle Certified Sen
 ior Applications Consultant at DubJUG partner Version 1\, where he has bee
 n using Java SE\, Spring\, and ORM to build middleware for RIA apps writte
 n in Adobe Flex &amp\; AS3\, Angular JS\, and HTML 5. \n\n Recently OCP Ja
 va SE 8 certified\, he is keen to increase his knowledge with Java EE and 
 is working towards the OCMJEA certification. \n\n Barry is also interested
  in meeting other JUG leaders\, finding out what brings Java developers to
 gether\, and to help the Dublin JUG in Ireland grow by getting involved wi
 th the global Java community. \n\n You can follow him on twitter at @Bazza
 _NI \n\n . \n\n Rafael Chinelato Del Nero believes there are many techniqu
 es involved in creating high-quality software that developers are often un
 aware of. His life's purpose is to help Java developers use best programmi
 ng practices to code quality software for stress-free projects with fewer 
 bugs \n\n He is creator of NoBugsProject\, and is the author of "No Bugs\,
  No Stress - Create a Life Changing Software Without Destroying Your Life.
 " \n\n You can follow him on twitter at @RafaDelNero \n\n . \n\n Java Chal
 lenges - Learn the Concepts Behind 10 Java Challenges and Eliminate Stress
 ful Bugs \n\n Bugs are a daily stress in our work as Java developers. Thos
 e pesky bugs hide behind important Java concepts\; there is no way out of 
 this. \n\n But can we have fun hunting them? You bet! \n\n How about solvi
 ng a series of Java puzzles and challenges as a way to learn concepts and 
 save a lot of time finding those tricky bugs? \n\n Together with Barry and
  Rafael\, attendees can solve fun Java challenges and gain a clear underst
 anding of what causes the most stressful Java bugs—and have fun eliminat
 ing them from your projects. \n\n REGISTRATION NOTES \n\n The Dublin Java 
 User Group meetups are designed to enhance the knowledge of developers and
  technology professionals. \n\n Due to the overwhelming demand to attend o
 ur events they are always full. On occasion\, a small attendance fee may b
 e required. \n\n The organisers reserve the right to cancel the booking if
  the attendee is not aligned to the intended audience. \n\n The Dublin Jav
 a User Group - Sponsor Messages \n\n Stackand.Co enrich the professional l
 ives of Java / Scala software professionals - with over 20 years experienc
 e in the Irish ICT market\, they have helped many great people elevate the
 ir careers. \n\n Perhaps they can do the same for you working with compani
 es like this one? \n\n Website: Stackand.Co / Twitter: StackanddotCo \n\n 
 . \n\n Equifax Technology Ireland is the Research and Development arm of g
 lobal credit scoring organisation Equifax - it has recently opened a techn
 ology centre in the Bloodstone Building\, Dublin 2. \n\n Now looking for d
 evelopers! \n\n Website: Equifax.com / Twitter: Equifax \n\n . \n\n GuruTe
 am's 'crème de la crème' instructors deliver an enthusing and valuable l
 earning experience\, equipping attendees with the vital skills applicable 
 to their careers\, and bringing true business value to organisations they 
 work with. \n\n Upcoming courses include CI with Jenkins\, Apache Hadoop\,
  Data Science &amp\; Big Data Analytics\, Spring\, GIT\, Linux Foundation
 ™\, Angular 2\, and OpenStack™ \n\n Website: GuruTeamIrl.com / Twitter
 : GuruTeamIreland \n\n . \n\n Version 1 is a trusted technology partner to
  major domestic and international customers across all industry sectors in
  the UK and Ireland. Their Java practice has grown to over 120 people over
  the last few years\, and continues to grow. Many of their Java customers 
 use a significant amount of open-source tools and technologies\, and there
 fore Version 1 work with the community to hear other Java success stories\
 , learn more about people’s experiences\, and bring in Java experts and 
 champions to get the latest on what’s going on in that space.” \n\n We
 bsite: Version1.com / Twitter: Version1Tweets \n\n . \n\n Teckro are rethi
 nking every element of clinical research - the people\, the processes\, th
 e technologies used. By making it possible for all relevant information to
  be instantly accessible to every active member of a clinical trial and fo
 r the entire study teams to be connected effortlessly\, they are broadenin
 g the possibilities of what can be achieved. This means drugs and treatmen
 ts for the world’s most complex diseases are being developed quicker\, a
 nd Teckro's long-term goal of continuously improving healthcare for everyo
 ne is realised. \n\n Teckro's partnership with DubJUG means that they can 
 interact and exchange ideas with some of Dublin’s best developers. \n\n 
 Website: Teckro.com / Twitter: TeckroOfficial \n\n . \n\n Sonorplex add th
 e edge to event attendance with their innovative 'Mark and Review' video p
 latform. Download the Sonorplex app on your smartphone\, attend DubJUG\, a
 nd click points of interest in realtime. Your own personal 'marked' copy w
 ill be available for reviewing within hours\, allowing you to relive the p
 resentations again and again! \n\n Website: Sonorplex.com / Twitter: Sonor
 plex \n\n . \n\n tcube provides city-centre co-working / hotdesks and full
 y serviced office space for ICT professionals and companies specifically. 
 Their community knits so well together remote workers\, contractors\, city
  visitors and entrepreneurs / startups immediately become a part of a netw
 ork of like-minded people who are able and willing to help one another. Of
 fices in Fleet Street\, Trinity Street and Grafton Street provide great lo
 cations with a huge benefit when it comes to hiring and retaining millenni
 als. \n\n Website: tcubedublin.com / Twitter: tcubeDublin \n\n . \n\n MORE
  DUBLIN JAVA USER GROUP EVENTS \n\n Java developers who are interested in 
 this meetup are also attending other Dublin Java User Group meetups - chec
 k them at DubJUG.org \n\n SORRY EVENT FINISHED - CLICK HERE TO VIEW UPCOMI
 NG JAVA EVENTS \n
LAST-MODIFIED:20250718T095849
LOCATION:TechMeetup.space\, (next to Palace Bar)\,  Fleet St\, Temple Bar\,
  Dublin 2
ORGANIZER:mailto:team@DubJUG.org
SUMMARY:Java Challenges - An Interactive Quiz Testing You!
URL;VALUE=URI:https://ti.to/dublin-java-user-group/java-challenges-december
 -2017
URL;VALUE=URI:https://ti.to/dublin-java-user-group/java-challenges-december
 -2017
END:VEVENT
END:VCALENDAR
