BEGIN:VCALENDAR
VERSION:2.0
PRODID:icalendar-ruby
CALSCALE:GREGORIAN
BEGIN:VEVENT
DTSTAMP:20260424T104633Z
UID:hh0nJA
DTSTART;VALUE=DATE:20171128
DTEND;VALUE=DATE:20171129
CLASS:PUBLIC
CREATED:20171019T154511
DESCRIPTION: Towards the end of November\, we hosted the lead of the Eclips
 e Collections project\, Nikhil Nanivadekar\, as he whistle-stopped around 
 Europe and beyond. Nikhil\, who is also a VP at Goldman Sachs\, was a regu
 lar sight at the world’s top Java conferences. \n\n Nikhil presented... 
 \n\n How to Make a Project Java 9-Compatible \n\n and \n\n Collections.com
 pare: JDK\, Eclipse\, Guava\, Apache... \n\n Doors Open 18:15 (evening ses
 sion) \n\n .\nNikhil Nanivadekar is a Vice President in Private Wealth Man
 agement in the Technology division of Goldman Sachs\, and is also the proj
 ect lead and committer for Eclipse Collections. He graduated in 2012 from 
 University of Utah with a Masters in Mechanical Engineering with specializ
 ation in Robotics and Controls. \n\n He has presented at JavaOne\, DevoxxU
 S and Java User Group meetups. He is passionate about robotics has conduct
 ed robotics workshops at JCrete4Kids\, JavaOne4Kids and Devoxx4Kids. \n\n 
 You can follow him on twitter at @NikhilNanivade \n\n . \n\n How to Make a
  Project Java 9-Compatible \n\n Java 9 brings numerous changes that might 
 break existing applications. This presentation is a case study of making a
  third-party Java Collections library (Eclipse Collections) Java 9–compa
 tible. \n\n You will get an overview of all the steps taken and the evolut
 ion of the final\, Java 9–compatible product. These steps are essentiall
 y similar to those you might have to take to upgrade your application to u
 se JDK 9. \n\n The session covers available tooling and simple yet practic
 al tips and tricks that will help you in the upgrade process. \n\n Collect
 ions.compare: JDK\, Eclipse\, Guava\, Apache... \n\n Collections are a sta
 ple in any programming language: the need to collect\, sort\, or iterate o
 ver values is needed by nearly all developers. The Java language introduce
 d the Collections framework long ago. It has plenty to offer\, but many fi
 nd it lacking: the number of collection libraries as active open source pr
 ojects demonstrates the need for something else. \n\n This session does a 
 holistic comparison of the most-common collections (pun intended!) framewo
 rks\, what they have to offer\, and what you should consider for your next
  project. It also shows common programmer use cases\; how each library han
 dles them\; and the impact on memory\, processing power\, and ease of use/
 coding. \n\n Come and let us help you choose the right bag for your tricks
 ! \n\n . \n\n REGISTRATION NOTES \n\n The Dublin Java User Group meetups a
 re designed to enhance the knowledge of developers and technology professi
 onals. \n\n Due to the overwhelming demand to attend our events they are a
 lways full. On occasion\, a small attendance fee may be required. \n\n The
  organisers reserve the right to cancel the booking if the attendee is not
  aligned to the intended audience. \n\n The Dublin Java User Group - Spons
 or Messages \n\n Stackand.Co enrich the professional lives of Java / Scala
  software professionals - with over 20 years experience in the Irish ICT m
 arket\, they have helped many great people elevate their careers. \n\n Per
 haps they can do the same for you working with companies like this one? \n
 \n Website: Stackand.Co / Twitter: StackanddotCo \n\n . \n\n Equifax Techn
 ology Ireland is the Research and Development arm of global credit scoring
  organisation Equifax - it has recently opened a technology centre in the 
 Bloodstone Building\, Dublin 2. \n\n Now looking for developers! \n\n Webs
 ite: Equifax.com / Twitter: Equifax \n\n . \n\n GuruTeam's 'crème de la c
 rème' instructors deliver an enthusing and valuable learning experience\,
  equipping attendees with the vital skills applicable to their careers\, a
 nd bringing true business value to organisations they work with. \n\n Upco
 ming courses include CI with Jenkins\, Apache Hadoop\, Data Science &amp\;
  Big Data Analytics\, Spring\, GIT\, Linux Foundation™\, Angular 2\, and
  OpenStack™ \n\n Website: GuruTeamIrl.com / Twitter: GuruTeamIreland \n\
 n . \n\n Version 1 is a trusted technology partner to major domestic and i
 nternational customers across all industry sectors in the UK and Ireland. 
 Their Java practice has grown to over 120 people over the last few years\,
  and continues to grow. Many of their Java customers use a significant amo
 unt of open-source tools and technologies\, and therefore Version 1 work w
 ith the community to hear other Java success stories\, learn more about pe
 ople’s experiences\, and bring in Java experts and champions to get the 
 latest on what’s going on in that space.” \n\n Website: Version1.com /
  Twitter: Version1Tweets \n\n . \n\n Teckro are rethinking every element o
 f clinical research - the people\, the processes\, the technologies used. 
 By making it possible for all relevant information to be instantly accessi
 ble to every active member of a clinical trial and for the entire study te
 ams to be connected effortlessly\, they are broadening the possibilities o
 f what can be achieved. This means drugs and treatments for the world’s 
 most complex diseases are being developed quicker\, and Teckro's long-term
  goal of continuously improving healthcare for everyone is realised. \n\n 
 Teckro's partnership with DubJUG means that they can interact and exchange
  ideas with some of Dublin’s best developers. \n\n Website: Teckro.com /
  Twitter: TeckroOfficial \n\n . \n\n Sonorplex add the edge to event atten
 dance with their innovative 'Mark and Review' video platform. Download the
  Sonorplex app on your smartphone\, attend DubJUG\, and click points of in
 terest in realtime. Your own personal 'marked' copy will be available for 
 reviewing within hours\, allowing you to relive the presentations again an
 d again! \n\n Website: Sonorplex.com / Twitter: Sonorplex \n\n . \n\n tcub
 e provides city-centre co-working / hotdesks and fully serviced office spa
 ce for ICT professionals and companies specifically. Their community knits
  so well together remote workers\, contractors\, city visitors and entrepr
 eneurs / startups immediately become a part of a network of like-minded pe
 ople who are able and willing to help one another. Offices in Fleet Street
 \, Trinity Street and Grafton Street provide great locations with a huge b
 enefit when it comes to hiring and retaining millennials. \n\n Website: tc
 ubedublin.com / Twitter: tcubeDublin \n\n . \n\n MORE DUBLIN JAVA USER GRO
 UP EVENTS \n\n Java developers who are interested in this meetup are also 
 attending other Dublin Java User Group meetups - check them at DubJUG.org 
 \n\n SORRY EVENT FINISHED - CLICK HERE TO VIEW UPCOMING JAVA EVENTS \n
LAST-MODIFIED:20250718T110608
LOCATION:TechMeetup.space\, (next to Palace Bar)\,  Fleet St\, Temple Bar\,
  Dublin 2
ORGANIZER:mailto:techmeetupspace@IrishDev.com
SUMMARY:Java 9 and the Eclipse Collection with Nikhil Nanivadekar
URL;VALUE=URI:https://ti.to/dublin-java-user-group/java-9-eclipse-collectio
 ns
URL;VALUE=URI:https://ti.to/dublin-java-user-group/java-9-eclipse-collectio
 ns
END:VEVENT
END:VCALENDAR
