BEGIN:VCALENDAR
VERSION:2.0
PRODID:icalendar-ruby
CALSCALE:GREGORIAN
BEGIN:VEVENT
DTSTAMP:20260424T110531Z
UID:I5V9JQ
DTSTART;VALUE=DATE:20230124
DTEND;VALUE=DATE:20230125
CLASS:PUBLIC
CREATED:20230103T102952
DESCRIPTION: We hope you joined us at TechMeetup.space on January 24th as J
 ava Champion Mary Grygleski flew in from Chicago to show you how to build 
 an efficient streaming data pipeline with Apache Pulsar and Apache Cassand
 ra. \n
LAST-MODIFIED:20250718T091820
LOCATION:Dublin City Centre
ORGANIZER:mailto:team@DubJUG.org
SUMMARY:Meet Java Champion Mary Grygleski Live in Dublin or Watch Online
URL;VALUE=URI:https://ti.to/dublin-java-user-group/jan-2023-jchampions-with
 -java-champion-mary-grygleski
URL;VALUE=URI:https://ti.to/dublin-java-user-group/jan-2023-jchampions-with
 -java-champion-mary-grygleski
END:VEVENT
END:VCALENDAR
