BEGIN:VCALENDAR
VERSION:2.0
PRODID:icalendar-ruby
CALSCALE:GREGORIAN
BEGIN:VEVENT
DTSTAMP:20260424T122956Z
UID:Dren4g
DTSTART;VALUE=DATE:20181011
DTEND;VALUE=DATE:20181012
CLASS:PUBLIC
CREATED:20180729T141117
DESCRIPTION: For October’s Oracle Dublin Java User Group event\, we were 
 privileged to welcome Elastic guys Philipp Krenn and David Pilato\, who sh
 owed how Elastic can enhance legacy apps and how to monitor Spring Boot ap
 plications. \n\n This event took place at 19:00 on Thursday 11th October. 
 \n\n The full talk abstracts were shared below. \n\n . \n\n REGISTRATION N
 OTES \n\n The Oracle Dublin Java User Group meetups are designed to enhanc
 e the knowledge of developers and technology professionals*. Due to the ov
 erwhelming demand to attend our events they are always full. \n\n We reser
 ve the right to cancel bookings if you are not aligned to our intended aud
 ience. No refunds are given for ticket cancellations or no-shows. Check yo
 ur diary carefully before booking! \n\n Email Team@DubJUG.org if you're in
 terested in becoming a coveted Platinum Member of the Ireland's longest ru
 nning\, most respected and most active Java User Group. \n\n MORE ORACLE D
 UBLIN JAVA USER GROUP EVENTS \n\n Java developers who are interested in th
 is meetup are also attending other Oracle Dublin Java User Group meetups -
  check them at DubJUG.org \n
LAST-MODIFIED:20250718T104347
LOCATION:
ORGANIZER:mailto:team@DubJUG.org
SUMMARY:elastic Guys Philipp Krenn and David Pilato
URL;VALUE=URI:https://ti.to/dublin-java-user-group/elastic-guys-philipp-kre
 nn-david-pilato
URL;VALUE=URI:https://ti.to/dublin-java-user-group/elastic-guys-philipp-kre
 nn-david-pilato
END:VEVENT
END:VCALENDAR
