BEGIN:VCALENDAR
VERSION:2.0
PRODID:icalendar-ruby
CALSCALE:GREGORIAN
BEGIN:VEVENT
DTSTAMP:20260424T104913Z
UID:Jjq5Sg
DTSTART;VALUE=DATE:20180613
DTEND;VALUE=DATE:20180614
CLASS:PUBLIC
CREATED:20180609T083409
DESCRIPTION: For our second DubJUG event in June\, we welcomed Riaz Mohamme
 d from Hazelcast\, the leading in-memory data management company\, who dis
 cussed Hazelcast’s integration with Spring. Alongside Riaz\, DubJUG memb
 er Anton Balaniuc from Workday provided insight into Java 8 Streams. \n\n 
 This event was sponsored by Hazelcast. Attendees had a chance to win an Am
 azon Echo. \n\n The full talk abstracts were shared below. \n\n  \n. \n\n 
 REGISTRATION NOTES \n\n The Dublin Java User Group meetups are designed to
  enhance the knowledge of developers and technology professionals. \n\n Du
 e to the overwhelming demand to attend our events they are always full so 
 make sure you're subscribed to the wait-list to get the release notificati
 on of this and future Dublin Java User Group events. \n\n Better still\, e
 mail Team@DubJUG..org and we'll tell you how to become a coveted Platinum 
 Member of the Ireland's longest running\, most respected and most active J
 ava User Group. \n\n MORE DUBLIN JAVA USER GROUP EVENTS \n\n Java develope
 rs who are interested in this meetup are also attending other Dublin Java 
 User Group meetups - check them at DubJUG.org \n
LAST-MODIFIED:20250718T110129
LOCATION:TechMeetup.space\, (next to Palace Bar)\,  Fleet St\, Temple Bar\,
  Dublin 2
ORGANIZER:mailto:team@DubJUG.org
SUMMARY:Cache Abstraction with Hazelcast
URL;VALUE=URI:https://ti.to/dublin-java-user-group/cache-abstraction-hazelc
 ast
URL;VALUE=URI:https://ti.to/dublin-java-user-group/cache-abstraction-hazelc
 ast
END:VEVENT
END:VCALENDAR
