BEGIN:VCALENDAR
VERSION:2.0
PRODID:icalendar-ruby
CALSCALE:GREGORIAN
BEGIN:VEVENT
DTSTAMP:20260425T155937Z
UID:Jl9qdQ
DTSTART;VALUE=DATE:20230322
DTEND;VALUE=DATE:20230323
CLASS:PUBLIC
CREATED:20230208T173322
DESCRIPTION: This month the Dublin Java User Group welcomed two local Dubli
 n speakers\, Shritesh Jamulkar (Blockchain Corda) and Ahmad Albarqawi (Int
 elligent Java AI) LIVE in-person at TechMeetup.space. \n
LAST-MODIFIED:20250718T091538
LOCATION:Dublin City Centre
ORGANIZER:mailto:team@DubJUG.org
SUMMARY:March 2023 - Blockchain & AI Talks
URL;VALUE=URI:https://ti.to/dublin-java-user-group/blockchain-shritesh-jamu
 lkar-java-ai-ahmad-albarqawi
URL;VALUE=URI:https://ti.to/dublin-java-user-group/blockchain-shritesh-jamu
 lkar-java-ai-ahmad-albarqawi
END:VEVENT
END:VCALENDAR
