BEGIN:VCALENDAR
VERSION:2.0
PRODID:icalendar-ruby
CALSCALE:GREGORIAN
BEGIN:VEVENT
DTSTAMP:20260424T104805Z
UID:zRPfOA
DTSTART;VALUE=DATE:20181115
DTEND;VALUE=DATE:20181116
CLASS:PUBLIC
CREATED:20181015T111953
DESCRIPTION: On 15th November 2018\, we welcomed Benjamin Nothdurft to the 
 Oracle Dublin Java User Group. \n\n Benjamin was working for Codecentric a
 t the time\, and had formerly been with ePages\, the German eCommerce prov
 ider that helped over 140\,000 businesses get their online shops open. \n\
 n The full talk abstracts were shared below. The Dublin 2 venue was reveal
 ed on booking.\n. \n\n REGISTRATION NOTES \n\n The Dublin Java User Group 
 meetups are designed to enhance the knowledge of developers and technology
  professionals*. Due to the overwhelming demand to attend our events they 
 are always full. \n\n We reserve the right to cancel bookings if you are n
 ot aligned to our intended audience. No refunds are given for ticket cance
 llations or no-shows. Check your diary carefully before booking! \n\n Emai
 l Team@DubJUG.org if you're interested in becoming a coveted Platinum Memb
 er of the Ireland's longest running\, most respected and most active Java 
 User Group. \n\n MORE DUBLIN JAVA USER GROUP EVENTS \n\n **Interested in m
 eeting Java Rockstars? Check out our other Dublin Java User Group events -
  ** DubJUG.org \n
LAST-MODIFIED:20250718T104324
LOCATION:Dublin City Centre
ORGANIZER:mailto:team@DubJUG.org
SUMMARY:Benjamin Nothdurft
URL;VALUE=URI:https://ti.to/dublin-java-user-group/benjamin-nothdurft
URL;VALUE=URI:https://ti.to/dublin-java-user-group/benjamin-nothdurft
END:VEVENT
END:VCALENDAR
