BEGIN:VCALENDAR
VERSION:2.0
PRODID:icalendar-ruby
CALSCALE:GREGORIAN
BEGIN:VEVENT
DTSTAMP:20260424T110301Z
UID:dYE4BA
DTSTART;VALUE=DATE:20220428
DTEND;VALUE=DATE:20220429
CLASS:PUBLIC
CREATED:20220401T101954
DESCRIPTION: On Thursday 28th April 2022\, the Dublin Java User Group hoste
 d Security Champion and JavaOne Rockstar Steve Poole at TechMeetup.Space i
 n tcube\, No.1 O'Connell Street\, Dublin. \n\n It was an insightful night 
 dedicated to Cybercrime and its bigger more dangerous cousin: Cyber-warfar
 e. We explored the drivers behind the radical shift\, the software arsenal
  available and how and why you\, the software developers\, are both target
  and unwitting helpers. \n\n SESSION ABSTRACTS BELOW.... \n
LAST-MODIFIED:20250718T101920
LOCATION:Dublin City Centre
ORGANIZER:mailto:team@DubJUG.org
SUMMARY:April 2022 - JavaOne Rockstar\, Steve Poole
URL;VALUE=URI:https://ti.to/dublin-java-user-group/april-2022-java-rockstar
 -steve-poole
URL;VALUE=URI:https://ti.to/dublin-java-user-group/april-2022-java-rockstar
 -steve-poole
END:VEVENT
END:VCALENDAR
