BEGIN:VCALENDAR
VERSION:2.0
PRODID:icalendar-ruby
CALSCALE:GREGORIAN
BEGIN:VEVENT
DTSTAMP:20260424T105957Z
UID:83ytjg
DTSTART;VALUE=DATE:20200421
DTEND;VALUE=DATE:20200422
CLASS:PUBLIC
CREATED:20200220T232245
DESCRIPTION: Test expert John Ferguson Smart visited DubJUG in April — de
 tails were shared ahead of the event. \n\n REGISTRATION NOTES \n\n The Dub
 lin Java User Group events are designed to enrich the knowledge and career
 s of developers and technology professionals. By booking your seat\, you a
 gree to the booking conditions \n\n PLATINUM MEMBERSHIP \n\n Due to the ov
 erwhelming demand to attend\, our events are always full. Priority booking
  is offered to our Platinum Members. Email Team@DubJUG.org if you'd like t
 o know more about becoming a coveted Platinum Member of the Ireland's long
 est running\, most respected and most active Java User Group. \n\n MORE DU
 BLIN JAVA USER GROUP EVENTS \n\n Interested in meeting Java Rockstars? Che
 ck out our other Dublin Java User Group events - DubJUG.org \n
LAST-MODIFIED:20250718T102512
LOCATION:Dublin City Centre
ORGANIZER:mailto:team@DubJUG.org
SUMMARY:April 2020 - John Ferguson Smart
URL;VALUE=URI:https://ti.to/dublin-java-user-group/apr-2020-john-ferguson-s
 mart
URL;VALUE=URI:https://ti.to/dublin-java-user-group/apr-2020-john-ferguson-s
 mart
END:VEVENT
END:VCALENDAR
