BEGIN:VCALENDAR
VERSION:2.0
PRODID:icalendar-ruby
CALSCALE:GREGORIAN
BEGIN:VEVENT
DTSTAMP:20260424T105739Z
UID:gfMS1A
DTSTART;VALUE=DATE:20190410
DTEND;VALUE=DATE:20190411
CLASS:PUBLIC
CREATED:20190308T152055
DESCRIPTION: A man known the world over for live-coding lambdas in venues t
 o make breakbeat music\, PraxisLive’s Neil C Smith\, came to the Oracle 
 Dublin Java User Group on Wednesday 10th April. Joining him at our sixth e
 vent of 2019 was John Ferguson Smart\, O’Reilly and Manning author of BD
 D in Action\, Java Power Tools\, and Jenkins: The Definitive Guide. \n\n R
 EGISTRATION NOTES \n\n The Dublin Java User Group events are designed to e
 nrich the knowledge and careers of developers and technology professionals
 . By booking your seat\, you agree to the booking conditions \n\n PLATINUM
  MEMBERSHIP \n\n Due to the overwhelming demand to attend\, our events are
  always full. Priority booking is offered to our Platinum Members. Email T
 eam@DubJUG.org if you'd like to know more about becoming a coveted Platinu
 m Member of the Ireland's longest running\, most respected and most active
  Java User Group. \n\n MORE DUBLIN JAVA USER GROUP EVENTS \n\n Interested 
 in meeting Java Rockstars? Check out our other Dublin Java User Group even
 ts - DubJUG.org \n
LAST-MODIFIED:20250718T103844
LOCATION:Dublin City Centre
ORGANIZER:mailto:team@DubJUG.org
SUMMARY:April 2019 - Write Now\, Run Anytime with Neil C Smith & Gherkin wi
 th John Ferguson Smart
URL;VALUE=URI:https://ti.to/dublin-java-user-group/Write-Now-Run-Anytime-wi
 th-Neil-C-Smith
URL;VALUE=URI:https://ti.to/dublin-java-user-group/Write-Now-Run-Anytime-wi
 th-Neil-C-Smith
END:VEVENT
END:VCALENDAR
