BEGIN:VCALENDAR
VERSION:2.0
PRODID:icalendar-ruby
CALSCALE:GREGORIAN
BEGIN:VEVENT
DTSTAMP:20260424T104822Z
UID:l7LO2A
DTSTART;VALUE=DATE:20180524
DTEND;VALUE=DATE:20180525
CLASS:PUBLIC
CREATED:20171215T124936
DESCRIPTION: For the DubJUG May event\, we welcomed back Brian Matthews\, l
 ong-term DubJUG member and now JUG leader in Rostov-on-Don\, Russia\, who 
 presented on building reactive microservices using the soon-to-be-released
  2.0 version of Spring Boot\, along with cloud-native applications. \n\n T
 he full talk abstracts were shared below. \n\n  \n. \n\n REGISTRATION NOTE
 S \n\n The Dublin Java User Group meetups are designed to enhance the know
 ledge of developers and technology professionals. \n\n Due to the overwhel
 ming demand to attend our events they are always full so make sure you're 
 subscribed to the wait-list to get the release notification of this and fu
 ture Dublin Java User Group events. \n\n Better still\, email Team@DubJUG.
 .org and we'll tell you how to become a coveted Platinum Member of the Ire
 land's longest running\, most respected and most active Java User Group. \
 n\n MORE DUBLIN JAVA USER GROUP EVENTS \n\n Java developers who are intere
 sted in this meetup are also attending other Dublin Java User Group meetup
 s - check them at DubJUG.org \n
LAST-MODIFIED:20250718T110229
LOCATION:TechMeetup.space\, (next to Palace Bar)\,  Fleet St\, Temple Bar\,
  Dublin 2
ORGANIZER:mailto:team@DubJUG.org
SUMMARY:Building Reactive Microservices with Spring Boot 2.0
URL;VALUE=URI:https://ti.to/dublin-java-user-group/Reactive-Microservices-w
 ith-Spring-Boot-2-Brian-Matthews
URL;VALUE=URI:https://ti.to/dublin-java-user-group/Reactive-Microservices-w
 ith-Spring-Boot-2-Brian-Matthews
END:VEVENT
END:VCALENDAR
