BEGIN:VCALENDAR
VERSION:2.0
PRODID:icalendar-ruby
CALSCALE:GREGORIAN
BEGIN:VEVENT
DTSTAMP:20260424T104939Z
UID:4AUY7A
DTSTART;VALUE=DATE:20191008
DTEND;VALUE=DATE:20191009
CLASS:PUBLIC
CREATED:20190914T210530
DESCRIPTION: “For our first event of October\, Polish Java developer Rysz
 ard Perkowski\, aka Rick\, visited the Oracle Dublin Java User Group for t
 he first time. He presented new kid on the block\, Micronaut — a competi
 tor to Spring. \n\n REGISTRATION NOTES \n\n The Dublin Java User Group eve
 nts are designed to enrich the knowledge and careers of developers and tec
 hnology professionals. By booking your seat\, you agree to the booking con
 ditions \n\n PLATINUM MEMBERSHIP \n\n Due to the overwhelming demand to at
 tend\, our events are always full. Priority booking is offered to our Plat
 inum Members. Email Team@DubJUG.org if you'd like to know more about becom
 ing a coveted Platinum Member of the Ireland's longest running\, most resp
 ected and most active Java User Group. \n\n MORE DUBLIN JAVA USER GROUP EV
 ENTS \n\n Interested in meeting Java Rockstars? Check out our other Dublin
  Java User Group events - DubJUG.org \n
LAST-MODIFIED:20250718T103033
LOCATION:Dublin City Centre
ORGANIZER:mailto:team@DubJUG.org
SUMMARY:Oct 2019 - Micronaut Framework with Ryszard Perkowski
URL;VALUE=URI:https://ti.to/dublin-java-user-group/Oct-2019-Micronaut-Rysza
 rd-Perkowski
URL;VALUE=URI:https://ti.to/dublin-java-user-group/Oct-2019-Micronaut-Rysza
 rd-Perkowski
END:VEVENT
END:VCALENDAR
