BEGIN:VCALENDAR
VERSION:2.0
PRODID:icalendar-ruby
CALSCALE:GREGORIAN
BEGIN:VEVENT
DTSTAMP:20260424T104805Z
UID:uYuB0g
DTSTART;VALUE=DATE:20191106
DTEND;VALUE=DATE:20191107
CLASS:PUBLIC
CREATED:20191013T111624
DESCRIPTION: Co-author of the highly acclaimed Testing Java Microservices\,
  Andy Gumbrecht visited the Oracle Dublin Java User Group in November. Foc
 using on testing\, attendees learned some neat embedded Kafka and Mongo\, 
 Arquillian\, and GitLab pipeline tests. \n\n REGISTRATION NOTES \n\n The D
 ublin Java User Group events are designed to enrich the knowledge and care
 ers of developers and technology professionals. By booking your seat\, you
  agree to the booking conditions \n\n PLATINUM MEMBERSHIP \n\n Due to the 
 overwhelming demand to attend\, our events are always full. Priority booki
 ng is offered to our Platinum Members. Email Team@DubJUG.org if you'd like
  to know more about becoming a coveted Platinum Member of the Ireland's lo
 ngest running\, most respected and most active Java User Group. \n\n MORE 
 DUBLIN JAVA USER GROUP EVENTS \n\n Interested in meeting Java Rockstars? C
 heck out our other Dublin Java User Group events - DubJUG.org \n
LAST-MODIFIED:20250718T102651
LOCATION:Dublin City Centre
ORGANIZER:mailto:team@DubJUG.org
SUMMARY:Nov 2019 - Testing Java Microservices with Andy Gumbrecht
URL;VALUE=URI:https://ti.to/dublin-java-user-group/Nov-2019-testing-java-mi
 croservices-andy-gumbrecht
URL;VALUE=URI:https://ti.to/dublin-java-user-group/Nov-2019-testing-java-mi
 croservices-andy-gumbrecht
END:VEVENT
END:VCALENDAR
