BEGIN:VCALENDAR
VERSION:2.0
PRODID:icalendar-ruby
CALSCALE:GREGORIAN
BEGIN:VEVENT
DTSTAMP:20260424T111248Z
UID:ndDdDQ
DTSTART;VALUE=DATE:20190502
DTEND;VALUE=DATE:20190503
CLASS:PUBLIC
CREATED:20190325T081141
DESCRIPTION: Brian Matthews of Búraló Technologies returned to the Oracle
  Dublin Java User Group on Thursday 2nd May. At the time\, he was consulti
 ng at Synchronoss Technologies\, working remotely from the comfort of his 
 home in Rostov-on-Don\, Russia. \n\n REGISTRATION NOTES \n\n The Dublin Ja
 va User Group events are designed to enrich the knowledge and careers of d
 evelopers and technology professionals. By booking your seat\, you agree t
 o the booking conditions \n\n PLATINUM MEMBERSHIP \n\n Due to the overwhel
 ming demand to attend\, our events are always full. Priority booking is of
 fered to our Platinum Members. Email Team@DubJUG.org if you'd like to know
  more about becoming a coveted Platinum Member of the Ireland's longest ru
 nning\, most respected and most active Java User Group. \n\n MORE DUBLIN J
 AVA USER GROUP EVENTS \n\n Interested in meeting Java Rockstars? Check out
  our other Dublin Java User Group events - DubJUG.org \n
LAST-MODIFIED:20250718T103804
LOCATION:Dublin City Centre
ORGANIZER:mailto:team@DubJUG.org
SUMMARY:May 2019 - Infinite Streams\, Hot Fluxes\, Live Queries and Tailabl
 e Cursor Brian Matthews
URL;VALUE=URI:https://ti.to/dublin-java-user-group/May-2019-Infinite-Stream
 s-Hot-Fluxes-Live-Queries-Tailable-Cursor-Brian-Matthews
URL;VALUE=URI:https://ti.to/dublin-java-user-group/May-2019-Infinite-Stream
 s-Hot-Fluxes-Live-Queries-Tailable-Cursor-Brian-Matthews
END:VEVENT
END:VCALENDAR
