BEGIN:VCALENDAR
VERSION:2.0
PRODID:icalendar-ruby
CALSCALE:GREGORIAN
BEGIN:VEVENT
DTSTAMP:20260424T105652Z
UID:i7he6w
DTSTART;VALUE=DATE:20190731
DTEND;VALUE=DATE:20190801
CLASS:PUBLIC
CREATED:20190325T084257
DESCRIPTION: We warmly welcomed Java Champion Emily Jiang to the Oracle Dub
 lin Java User Group on Wednesday 31st July. Emily\, who works in IBM’s H
 ursley Lab\, is a regular speaker at global events such as Code One\, DevN
 exus\, JAX London\, Voxxed\, Devoxx US\, Devoxx Belgium\, Devoxx UK\, Devo
 xx France\, and EclipseCon. \n\n REGISTRATION NOTES \n\n The Dublin Java U
 ser Group events are designed to enrich the knowledge and careers of devel
 opers and technology professionals. By booking your seat\, you agree to th
 e booking conditions \n\n PLATINUM MEMBERSHIP \n\n Due to the overwhelming
  demand to attend\, our events are always full. Priority booking is offere
 d to our Platinum Members. Email Team@DubJUG.org if you'd like to know mor
 e about becoming a coveted Platinum Member of the Ireland's longest runnin
 g\, most respected and most active Java User Group. \n\n MORE DUBLIN JAVA 
 USER GROUP EVENTS \n\n Interested in meeting Java Rockstars? Check out our
  other Dublin Java User Group events - DubJUG.org \n
LAST-MODIFIED:20250718T103453
LOCATION:Dublin City Centre
ORGANIZER:mailto:team@DubJUG.org
SUMMARY:July 2019 - Microprofile and Istio with Java Champion Emily Jiang
URL;VALUE=URI:https://ti.to/dublin-java-user-group/July-2019-Microprofile-I
 stio-Java-Champion-Emily-Jiang
URL;VALUE=URI:https://ti.to/dublin-java-user-group/July-2019-Microprofile-I
 stio-Java-Champion-Emily-Jiang
END:VEVENT
END:VCALENDAR
