BEGIN:VCALENDAR
VERSION:2.0
PRODID:icalendar-ruby
CALSCALE:GREGORIAN
BEGIN:VEVENT
DTSTAMP:20260424T104641Z
UID:e2WnSQ
DTSTART;VALUE=DATE:20190321
DTEND;VALUE=DATE:20190322
CLASS:PUBLIC
CREATED:20190201T213655
DESCRIPTION: Our fifth event of 2019 saw Director of the Oracle Groundbreak
 ers Team\, global keynote speaker\, and Java Rockstar Stephen Chin come to
  the Oracle Dublin Java User Group on Thursday 21st March. Known the world
  over for his stage antics and hair-raising motorcycle expeditions\, it wa
 s a once-in-a-lifetime opportunity (well\, ‘once’ unless you could aff
 ord to go to the global conferences outside of Ireland!) to meet Stephen o
 n our turf. \n\n SCROLL DOWN FOR DETAILED TALK ABSTRACTS \n\n REGISTRATION
  NOTES \n\n The Dublin Java User Group events are designed to enrich the k
 nowledge and careers of developers and technology professionals. By bookin
 g your seat\, you agree to the booking conditions \n\n PLATINUM MEMBERSHIP
  \n\n Due to the overwhelming demand to attend\, our events are always ful
 l. Priority booking is offered to our Platinum Members. Email Team@DubJUG.
 org if you'd like to know more about becoming a coveted Platinum Member of
  the Ireland's longest running\, most respected and most active Java User 
 Group. \n\n MORE DUBLIN JAVA USER GROUP EVENTS \n\n **Interested in meetin
 g Java Rockstars? Check out our other Dublin Java User Group events - ** D
 ubJUG.org \n
LAST-MODIFIED:20250718T103917
LOCATION:Dublin City Centre
ORGANIZER:mailto:team@DubJUG.org
SUMMARY:March 2019 - Java with Stephen Chin
URL;VALUE=URI:https://ti.to/dublin-java-user-group/Java-with-Stephen-Chin
URL;VALUE=URI:https://ti.to/dublin-java-user-group/Java-with-Stephen-Chin
END:VEVENT
END:VCALENDAR
