BEGIN:VCALENDAR
VERSION:2.0
PRODID:icalendar-ruby
CALSCALE:GREGORIAN
BEGIN:VEVENT
DTSTAMP:20260424T104658Z
UID:5kWIRg
DTSTART;VALUE=DATE:20190124
DTEND;VALUE=DATE:20190125
CLASS:PUBLIC
CREATED:20181213T150547
DESCRIPTION: Our second event of 2019 saw consultant Sander Mak visit us fr
 om Holland to talk to us about Java on 24th January. The full talk abstrac
 ts were shared below. The Dublin 2 venue was revealed on booking.\n. \n\n 
 REGISTRATION NOTES \n\n The Dublin Java User Group meetups are designed to
  enhance the knowledge of developers and technology professionals*. Due to
  the overwhelming demand to attend our events they are always full. \n\n W
 e reserve the right to cancel bookings if you are not aligned to our inten
 ded audience. No refunds are given for ticket cancellations or no-shows. C
 heck your diary carefully before booking! \n\n Email Team@DubJUG.org if yo
 u're interested in becoming a coveted Platinum Member of the Ireland's lon
 gest running\, most respected and most active Java User Group. \n\n MORE D
 UBLIN JAVA USER GROUP EVENTS \n\n **Interested in meeting Java Rockstars? 
 Check out our other Dublin Java User Group events - ** DubJUG.org \n
LAST-MODIFIED:20250718T104104
LOCATION:Dublin City Centre
ORGANIZER:mailto:team@DubJUG.org
SUMMARY:January 2019 - Java Features & Modularity with Sander Mak
URL;VALUE=URI:https://ti.to/dublin-java-user-group/Java-with-Sander-Mak
URL;VALUE=URI:https://ti.to/dublin-java-user-group/Java-with-Sander-Mak
END:VEVENT
END:VCALENDAR
