BEGIN:VCALENDAR
VERSION:2.0
PRODID:icalendar-ruby
CALSCALE:GREGORIAN
BEGIN:VEVENT
DTSTAMP:20260421T232907Z
UID:NMPTQw
DTSTART;VALUE=DATE:20180912
DTEND;VALUE=DATE:20180913
CLASS:PUBLIC
CREATED:20180731T191153
DESCRIPTION: It had been over ten years since we first met Java Champion an
 d author of The JHipster Mini-Book and Spring Live\, Matt Raible\, and we 
 were delighted and privileged to welcome him again to share his expert kno
 wledge in his session ‘Bootiful Development with Spring Boot and React
 ’. \n\n This event took place at 19:00 on Thursday 12th September. \n\n 
 The full talk abstracts were shared below. \n\n . \n\n REGISTRATION NOTES 
 \n\n The Dublin Java User Group meetups are designed to enhance the knowle
 dge of developers and technology professionals*. Due to the overwhelming d
 emand to attend our events they are always full. \n\n We reserve the right
  to cancel bookings if you are not aligned to our intended audience. No re
 funds are given for ticket cancellations or no-shows. Check your diary car
 efully before booking! \n\n Email Team@DubJUG.org if you're interested in 
 becoming a coveted Platinum Member of the Ireland's longest running\, most
  respected and most active Java User Group. \n\n MORE DUBLIN JAVA USER GRO
 UP EVENTS \n\n **Interested in meeting Java Rockstars? Check out our other
  Dublin Java User Group events - ** DubJUG.org \n
LAST-MODIFIED:20250718T104740
LOCATION:TechMeetup.space\, (next to Palace Bar)\,  Fleet St\, Temple Bar\,
  Dublin 2
ORGANIZER:mailto:team@DubJUG.org
SUMMARY:Java Champion Matt Raible
URL;VALUE=URI:https://ti.to/dublin-java-user-group/Java-Champion-Matt-Raibl
 e
URL;VALUE=URI:https://ti.to/dublin-java-user-group/Java-Champion-Matt-Raibl
 e
END:VEVENT
END:VCALENDAR
