BEGIN:VCALENDAR
VERSION:2.0
PRODID:icalendar-ruby
CALSCALE:GREGORIAN
BEGIN:VEVENT
DTSTAMP:20260424T110839Z
UID:WXdAdw
DTSTART;VALUE=DATE:20190206
DTEND;VALUE=DATE:20190207
CLASS:PUBLIC
CREATED:20190118T114652
DESCRIPTION: Our third event of 2019 saw Oracle’s Serverless Developer Re
 lations teamster David Delabassee return to the Dublin Java User Group on 
 Wednesday 6th February. The full talk abstracts were shared below... \n\n 
 REGISTRATION NOTES \n\n The Dublin Java User Group meetups are designed to
  enhance the knowledge of developers and technology professionals*. Due to
  the overwhelming demand to attend our events they are always full. \n\n W
 e reserve the right to cancel bookings if you are not aligned to our inten
 ded audience. No refunds are given for ticket cancellations or no-shows. C
 heck your diary carefully before booking! \n\n Email Team@DubJUG.org if yo
 u're interested in becoming a coveted Platinum Member of the Ireland's lon
 gest running\, most respected and most active Java User Group. \n\n MORE D
 UBLIN JAVA USER GROUP EVENTS \n\n **Interested in meeting Java Rockstars? 
 Check out our other Dublin Java User Group events - ** DubJUG.org \n
LAST-MODIFIED:20250718T104018
LOCATION:Dublin City Centre
ORGANIZER:mailto:team@DubJUG.org
SUMMARY:February 2019 - Serverless Java Challenges & Project Helidon with D
 avid Delabassee
URL;VALUE=URI:https://ti.to/dublin-java-user-group/Java-Challenges-and-Proj
 ect-Helidon-David-Delabassee
URL;VALUE=URI:https://ti.to/dublin-java-user-group/Java-Challenges-and-Proj
 ect-Helidon-David-Delabassee
END:VEVENT
END:VCALENDAR
